BEGIN:VCALENDAR
VERSION:2.0
PRODID:-//www.adsc-iafd.com - ECPv6.15.20//NONSGML v1.0//EN
CALSCALE:GREGORIAN
METHOD:PUBLISH
X-WR-CALNAME:www.adsc-iafd.com
X-ORIGINAL-URL:https://www.adsc-iafd.com
X-WR-CALDESC:Events for www.adsc-iafd.com
REFRESH-INTERVAL;VALUE=DURATION:PT1H
X-Robots-Tag:noindex
X-PUBLISHED-TTL:PT1H
BEGIN:VTIMEZONE
TZID:America/Detroit
BEGIN:DAYLIGHT
TZOFFSETFROM:-0500
TZOFFSETTO:-0400
TZNAME:EDT
DTSTART:20240310T070000
END:DAYLIGHT
BEGIN:STANDARD
TZOFFSETFROM:-0400
TZOFFSETTO:-0500
TZNAME:EST
DTSTART:20241103T060000
END:STANDARD
BEGIN:DAYLIGHT
TZOFFSETFROM:-0500
TZOFFSETTO:-0400
TZNAME:EDT
DTSTART:20250309T070000
END:DAYLIGHT
BEGIN:STANDARD
TZOFFSETFROM:-0400
TZOFFSETTO:-0500
TZNAME:EST
DTSTART:20251102T060000
END:STANDARD
BEGIN:DAYLIGHT
TZOFFSETFROM:-0500
TZOFFSETTO:-0400
TZNAME:EDT
DTSTART:20260308T070000
END:DAYLIGHT
BEGIN:STANDARD
TZOFFSETFROM:-0400
TZOFFSETTO:-0500
TZNAME:EST
DTSTART:20261101T060000
END:STANDARD
END:VTIMEZONE
BEGIN:VEVENT
DTSTART;TZID=America/Detroit:20251119T090000
DTEND;TZID=America/Detroit:20251119T150000
DTSTAMP:20260425T162735
CREATED:20251029T195004Z
LAST-MODIFIED:20251029T201430Z
UID:10000084-1763542800-1763564400@www.adsc-iafd.com
SUMMARY:Chapter Meeting
DESCRIPTION:To register\, please email Shana Carroll scarroll@dwkozera.com. Agenda:9:00 AM – 10 AM Breakfast10:00 AM – 12:30 PM Sporting Clays12:30 PM – 2:00 PM Lunch and Meeting \n\n\n\nRegistration is $120 and includes: \n\n\n\n\n(50) Target Sporting Clays Course\n\n\n\nMultiple targets at each station\n\n\n\n(50) rounds of ammunition included (participants can bring their own factory new 7-1/2 shot ammo if they prefer)\n\n\n\nGun rental if needed (12 gauge) – included with registration fee.\n\n\n\nRegistrants may bring their own gun (12 or 20ga) \n\n\n\nEye and Ear protection available (mandatory)\n\n\n\nAward for Best overall Score\n\n\n\nCoffee\, light breakfast\, snacks\, water\, lunch and soft drinks\n\n\n\n\nA Waiver Form must be completed at the time of registration in order to be able to participate in the Sporting Clay’s Event at Pintail Point Sporting Clay School. \n\n\n\nSponsorship OpportunitiesSponsors are welcome to provide giveaway items designed to promote your company. Marketing table space will be available. \n\n\n\n\nBreakfast Sponsor $500\n\n\n\nLunch Sponsor $750\n\n\n\nStation Sponsor $250\n\n\n\nShotgun Shell Sponsor $400
URL:https://www.adsc-iafd.com/event/chapter-meeting/
LOCATION:The Point at Pintail Sporting Clay School\, 511 Pintail Point Farm Ln\, Queenstown\, Maryland\, 21658\, United States
CATEGORIES:Chapter Events,Mid-Atlantic
ATTACH;FMTTYPE=image/jpeg:https://www.adsc-iafd.com/wp-content/uploads/2025/01/adsc-mid-atlantic.jpg
END:VEVENT
END:VCALENDAR