BEGIN:VCALENDAR
VERSION:2.0
PRODID:-//www.adsc-iafd.com - ECPv6.15.20//NONSGML v1.0//EN
CALSCALE:GREGORIAN
METHOD:PUBLISH
X-WR-CALNAME:www.adsc-iafd.com
X-ORIGINAL-URL:https://www.adsc-iafd.com
X-WR-CALDESC:Events for www.adsc-iafd.com
REFRESH-INTERVAL;VALUE=DURATION:PT1H
X-Robots-Tag:noindex
X-PUBLISHED-TTL:PT1H
BEGIN:VTIMEZONE
TZID:America/Detroit
BEGIN:DAYLIGHT
TZOFFSETFROM:-0500
TZOFFSETTO:-0400
TZNAME:EDT
DTSTART:20240310T070000
END:DAYLIGHT
BEGIN:STANDARD
TZOFFSETFROM:-0400
TZOFFSETTO:-0500
TZNAME:EST
DTSTART:20241103T060000
END:STANDARD
BEGIN:DAYLIGHT
TZOFFSETFROM:-0500
TZOFFSETTO:-0400
TZNAME:EDT
DTSTART:20250309T070000
END:DAYLIGHT
BEGIN:STANDARD
TZOFFSETFROM:-0400
TZOFFSETTO:-0500
TZNAME:EST
DTSTART:20251102T060000
END:STANDARD
BEGIN:DAYLIGHT
TZOFFSETFROM:-0500
TZOFFSETTO:-0400
TZNAME:EDT
DTSTART:20260308T070000
END:DAYLIGHT
BEGIN:STANDARD
TZOFFSETFROM:-0400
TZOFFSETTO:-0500
TZNAME:EST
DTSTART:20261101T060000
END:STANDARD
END:VTIMEZONE
BEGIN:VEVENT
DTSTART;TZID=America/Detroit:20250821T083000
DTEND;TZID=America/Detroit:20250821T190000
DTSTAMP:20260425T174743
CREATED:20250702T210334Z
LAST-MODIFIED:20250708T182931Z
UID:10000055-1755765000-1755802800@www.adsc-iafd.com
SUMMARY:Summer 2025 Meeting & Golf Outing
DESCRIPTION:8:30 AM-10:15 AM- breakfast & registration10:30 AM- Golf4:00PM- Cocktail Hour\, Raffle and Awards5:00-7:00 PM – ADSC NE Chapter Meeting & Dinner \nRegister by filling out the form below and emailing it to Kyle Thompson \nRegistration \nRoom block is open at Foxwood Resort & Casino until July 30th
URL:https://www.adsc-iafd.com/event/summer-2025-meeting-golf-outing/
LOCATION:Lake of Isles in Stonigton\, CT\, CT\, United States
CATEGORIES:Chapter Events,Northeast
ATTACH;FMTTYPE=image/jpeg:https://www.adsc-iafd.com/wp-content/uploads/2025/01/adsc-northeastern.jpg
END:VEVENT
END:VCALENDAR