BEGIN:VCALENDAR
VERSION:2.0
PRODID:-//www.adsc-iafd.com - ECPv6.15.20//NONSGML v1.0//EN
CALSCALE:GREGORIAN
METHOD:PUBLISH
X-ORIGINAL-URL:https://www.adsc-iafd.com
X-WR-CALDESC:Events for www.adsc-iafd.com
REFRESH-INTERVAL;VALUE=DURATION:PT1H
X-Robots-Tag:noindex
X-PUBLISHED-TTL:PT1H
BEGIN:VTIMEZONE
TZID:America/Detroit
BEGIN:DAYLIGHT
TZOFFSETFROM:-0500
TZOFFSETTO:-0400
TZNAME:EDT
DTSTART:20240310T070000
END:DAYLIGHT
BEGIN:STANDARD
TZOFFSETFROM:-0400
TZOFFSETTO:-0500
TZNAME:EST
DTSTART:20241103T060000
END:STANDARD
BEGIN:DAYLIGHT
TZOFFSETFROM:-0500
TZOFFSETTO:-0400
TZNAME:EDT
DTSTART:20250309T070000
END:DAYLIGHT
BEGIN:STANDARD
TZOFFSETFROM:-0400
TZOFFSETTO:-0500
TZNAME:EST
DTSTART:20251102T060000
END:STANDARD
BEGIN:DAYLIGHT
TZOFFSETFROM:-0500
TZOFFSETTO:-0400
TZNAME:EDT
DTSTART:20260308T070000
END:DAYLIGHT
BEGIN:STANDARD
TZOFFSETFROM:-0400
TZOFFSETTO:-0500
TZNAME:EST
DTSTART:20261101T060000
END:STANDARD
END:VTIMEZONE
BEGIN:VEVENT
DTSTART;TZID=America/Detroit:20250822T080000
DTEND;TZID=America/Detroit:20250822T170000
DTSTAMP:20260425T145409
CREATED:20250702T203027Z
LAST-MODIFIED:20250812T175802Z
UID:10000054-1755849600-1755882000@www.adsc-iafd.com
SUMMARY:SCC Engineering Seminar
DESCRIPTION:Engineering Seminar – Friday\, August 22\, 2025\n\n\nClick here for the agenda & more information \n\n\nRegister here for the seminar: https://cvent.me/ayL8Ze
URL:https://www.adsc-iafd.com/event/scc-engineering-seminar/
LOCATION:Hilton Dallas/Southlake Town Square\, 1400 Plaza Place\, Southlake\, TX\, 76092\, United States
CATEGORIES:South Central
ATTACH;FMTTYPE=image/jpeg:https://www.adsc-iafd.com/wp-content/uploads/2025/06/adsc-south-central.jpg
END:VEVENT
BEGIN:VEVENT
DTSTART;TZID=America/Detroit:20250821T073000
DTEND;TZID=America/Detroit:20250821T170000
DTSTAMP:20260425T145409
CREATED:20250123T223647Z
LAST-MODIFIED:20250820T162830Z
UID:10000060-1755761400-1755795600@www.adsc-iafd.com
SUMMARY:PMT - Project Manager Training
DESCRIPTION:Hilton Dallas/Southlake Town Square\n1400 Plaza Place Southlake\, TX 76092 \n\n\nRegistration costs $2\,300 per attendee and includes breakfast\, lunch\, and breaks for the duration of the school. \n*Capacity has been reached and registration has closed.* \nFor any questions\, please reach out to Gabby Hawkins at ghawkins@adsc-iafd.com \nAgenda\n\n\n\n\n\n\n\nTuesday\, August 19\, 2025\n8:00 AM  Breakfast \n8:30 AM Welcome and Intros \n9:00 AM Project Manager Basics \n10:30 AM Break \n11:00 AM Time Management \n12:00 PM Lunch \n1:00 PM Role of the Project Manager \n2:30 PM Break \n3:00 PM Weaving a Culture of Safety into the Whole Project \n5:30 PM Wrap up day \n\n\n\nWednesday\, August 20\, 2025\n7:00 AM  Breakfast \n7:30 AM Changes in Work\, Documentation\, Construction Claims \n9:30 AM Break \n10:00 AM Understanding Contracts \n10:30 AM Insurance Bonds and Liens \n11:45 AM Lunch \n12:45 PM Project Specifications \n1:45 PM Production\, Extra Work\, Cost Reporting \n2:45 PM Break \n3:15 PM An Entire Project Built on Quality \n5:30 PM Wrap up day \n\n\n\nThursday\, August 21\, 2025\n7:30 AM Breakfast \n8:00 AM Basics of Lean Construction and Other Systems \n10:00 AM Break \n10:30 AM Systems (cont’d) \n11:30 AM Lunch \n12:30 PM Optimizing Project Management Habits \n5:00 PM Wrap up day \n\n\n\n\n\n \nThis program focuses on teaching Project Managers the skills needed for success in the drilled shaft\, micropile\, and anchored earth retention industries. The three-day course will enhance your employee’s ability to perform at a higher level.\n \n \nPMT is designed to develop the Project Manager’s ability to confidently perform at a higher level of excellence\, broaden the attendee’s knowledge of drilled shaft and micropile/anchored earth retention systems\, and enhance communication\, leadership\, and managerial skills. Space is limited\, and this class is only available to ADSC Members.\n\nTopics include: \n\nExcellence in Safety\nWork\, Documentation\, and Construction Claims\nUnderstanding Contracts\nInsurance Bonds and Liens Rights\nAn Entire Project Built on Quality\nProject Specifications and Guidelines\nProduction\, Extra Wor\,k and Cost Reporting Techniques\nTime Management
URL:https://www.adsc-iafd.com/event/pmt/2025-08-21/
LOCATION:Hilton Dallas/Southlake Town Square\, 1400 Plaza Place\, Southlake\, TX\, 76092\, United States
CATEGORIES:National Events
ATTACH;FMTTYPE=image/jpeg:https://www.adsc-iafd.com/wp-content/uploads/2025/01/PMT-1.jpg
END:VEVENT
BEGIN:VEVENT
DTSTART;TZID=America/Detroit:20250820T070000
DTEND;TZID=America/Detroit:20250820T173000
DTSTAMP:20260425T145409
CREATED:20250123T223647Z
LAST-MODIFIED:20250820T162830Z
UID:10000059-1755673200-1755711000@www.adsc-iafd.com
SUMMARY:PMT - Project Manager Training
DESCRIPTION:Hilton Dallas/Southlake Town Square\n1400 Plaza Place Southlake\, TX 76092 \n\n\nRegistration costs $2\,300 per attendee and includes breakfast\, lunch\, and breaks for the duration of the school. \n*Capacity has been reached and registration has closed.* \nFor any questions\, please reach out to Gabby Hawkins at ghawkins@adsc-iafd.com \nAgenda\n\n\n\n\n\n\n\nTuesday\, August 19\, 2025\n8:00 AM  Breakfast \n8:30 AM Welcome and Intros \n9:00 AM Project Manager Basics \n10:30 AM Break \n11:00 AM Time Management \n12:00 PM Lunch \n1:00 PM Role of the Project Manager \n2:30 PM Break \n3:00 PM Weaving a Culture of Safety into the Whole Project \n5:30 PM Wrap up day \n\n\n\nWednesday\, August 20\, 2025\n7:00 AM  Breakfast \n7:30 AM Changes in Work\, Documentation\, Construction Claims \n9:30 AM Break \n10:00 AM Understanding Contracts \n10:30 AM Insurance Bonds and Liens \n11:45 AM Lunch \n12:45 PM Project Specifications \n1:45 PM Production\, Extra Work\, Cost Reporting \n2:45 PM Break \n3:15 PM An Entire Project Built on Quality \n5:30 PM Wrap up day \n\n\n\nThursday\, August 21\, 2025\n7:30 AM Breakfast \n8:00 AM Basics of Lean Construction and Other Systems \n10:00 AM Break \n10:30 AM Systems (cont’d) \n11:30 AM Lunch \n12:30 PM Optimizing Project Management Habits \n5:00 PM Wrap up day \n\n\n\n\n\n \nThis program focuses on teaching Project Managers the skills needed for success in the drilled shaft\, micropile\, and anchored earth retention industries. The three-day course will enhance your employee’s ability to perform at a higher level.\n \n \nPMT is designed to develop the Project Manager’s ability to confidently perform at a higher level of excellence\, broaden the attendee’s knowledge of drilled shaft and micropile/anchored earth retention systems\, and enhance communication\, leadership\, and managerial skills. Space is limited\, and this class is only available to ADSC Members.\n\nTopics include: \n\nExcellence in Safety\nWork\, Documentation\, and Construction Claims\nUnderstanding Contracts\nInsurance Bonds and Liens Rights\nAn Entire Project Built on Quality\nProject Specifications and Guidelines\nProduction\, Extra Wor\,k and Cost Reporting Techniques\nTime Management
URL:https://www.adsc-iafd.com/event/pmt/2025-08-20/
LOCATION:Hilton Dallas/Southlake Town Square\, 1400 Plaza Place\, Southlake\, TX\, 76092\, United States
CATEGORIES:National Events
ATTACH;FMTTYPE=image/jpeg:https://www.adsc-iafd.com/wp-content/uploads/2025/01/PMT-1.jpg
END:VEVENT
BEGIN:VEVENT
DTSTART;TZID=America/Detroit:20250819T080000
DTEND;TZID=America/Detroit:20250819T173000
DTSTAMP:20260425T145409
CREATED:20250123T223647Z
LAST-MODIFIED:20250820T162830Z
UID:10000029-1755590400-1755624600@www.adsc-iafd.com
SUMMARY:PMT - Project Manager Training
DESCRIPTION:Hilton Dallas/Southlake Town Square\n1400 Plaza Place Southlake\, TX 76092 \n\n\nRegistration costs $2\,300 per attendee and includes breakfast\, lunch\, and breaks for the duration of the school. \n*Capacity has been reached and registration has closed.* \nFor any questions\, please reach out to Gabby Hawkins at ghawkins@adsc-iafd.com \nAgenda\n\n\n\n\n\n\n\nTuesday\, August 19\, 2025\n8:00 AM  Breakfast \n8:30 AM Welcome and Intros \n9:00 AM Project Manager Basics \n10:30 AM Break \n11:00 AM Time Management \n12:00 PM Lunch \n1:00 PM Role of the Project Manager \n2:30 PM Break \n3:00 PM Weaving a Culture of Safety into the Whole Project \n5:30 PM Wrap up day \n\n\n\nWednesday\, August 20\, 2025\n7:00 AM  Breakfast \n7:30 AM Changes in Work\, Documentation\, Construction Claims \n9:30 AM Break \n10:00 AM Understanding Contracts \n10:30 AM Insurance Bonds and Liens \n11:45 AM Lunch \n12:45 PM Project Specifications \n1:45 PM Production\, Extra Work\, Cost Reporting \n2:45 PM Break \n3:15 PM An Entire Project Built on Quality \n5:30 PM Wrap up day \n\n\n\nThursday\, August 21\, 2025\n7:30 AM Breakfast \n8:00 AM Basics of Lean Construction and Other Systems \n10:00 AM Break \n10:30 AM Systems (cont’d) \n11:30 AM Lunch \n12:30 PM Optimizing Project Management Habits \n5:00 PM Wrap up day \n\n\n\n\n\n \nThis program focuses on teaching Project Managers the skills needed for success in the drilled shaft\, micropile\, and anchored earth retention industries. The three-day course will enhance your employee’s ability to perform at a higher level.\n \n \nPMT is designed to develop the Project Manager’s ability to confidently perform at a higher level of excellence\, broaden the attendee’s knowledge of drilled shaft and micropile/anchored earth retention systems\, and enhance communication\, leadership\, and managerial skills. Space is limited\, and this class is only available to ADSC Members.\n\nTopics include: \n\nExcellence in Safety\nWork\, Documentation\, and Construction Claims\nUnderstanding Contracts\nInsurance Bonds and Liens Rights\nAn Entire Project Built on Quality\nProject Specifications and Guidelines\nProduction\, Extra Wor\,k and Cost Reporting Techniques\nTime Management
URL:https://www.adsc-iafd.com/event/pmt/2025-08-19/
LOCATION:Hilton Dallas/Southlake Town Square\, 1400 Plaza Place\, Southlake\, TX\, 76092\, United States
CATEGORIES:National Events
ATTACH;FMTTYPE=image/jpeg:https://www.adsc-iafd.com/wp-content/uploads/2025/01/PMT-1.jpg
END:VEVENT
END:VCALENDAR