BEGIN:VCALENDAR
VERSION:2.0
PRODID:-//www.adsc-iafd.com - ECPv6.15.20//NONSGML v1.0//EN
CALSCALE:GREGORIAN
METHOD:PUBLISH
X-WR-CALNAME:www.adsc-iafd.com
X-ORIGINAL-URL:https://www.adsc-iafd.com
X-WR-CALDESC:Events for www.adsc-iafd.com
REFRESH-INTERVAL;VALUE=DURATION:PT1H
X-Robots-Tag:noindex
X-PUBLISHED-TTL:PT1H
BEGIN:VTIMEZONE
TZID:America/Detroit
BEGIN:DAYLIGHT
TZOFFSETFROM:-0500
TZOFFSETTO:-0400
TZNAME:EDT
DTSTART:20240310T070000
END:DAYLIGHT
BEGIN:STANDARD
TZOFFSETFROM:-0400
TZOFFSETTO:-0500
TZNAME:EST
DTSTART:20241103T060000
END:STANDARD
BEGIN:DAYLIGHT
TZOFFSETFROM:-0500
TZOFFSETTO:-0400
TZNAME:EDT
DTSTART:20250309T070000
END:DAYLIGHT
BEGIN:STANDARD
TZOFFSETFROM:-0400
TZOFFSETTO:-0500
TZNAME:EST
DTSTART:20251102T060000
END:STANDARD
BEGIN:DAYLIGHT
TZOFFSETFROM:-0500
TZOFFSETTO:-0400
TZNAME:EDT
DTSTART:20260308T070000
END:DAYLIGHT
BEGIN:STANDARD
TZOFFSETFROM:-0400
TZOFFSETTO:-0500
TZNAME:EST
DTSTART:20261101T060000
END:STANDARD
END:VTIMEZONE
BEGIN:VEVENT
DTSTART;TZID=America/Detroit:20251103T000000
DTEND;TZID=America/Detroit:20251103T235959
DTSTAMP:20260425T111201
CREATED:20250822T182640Z
LAST-MODIFIED:20251001T154010Z
UID:10000061-1762128000-1762214399@www.adsc-iafd.com
SUMMARY:12th Annual Golf Outing
DESCRIPTION:Registration Form\n\n\n\nPlease return golf registration and sponsorships by email before Monday\, October 27\, 2025. Please email the registration form to dean@rwharrisinc.com.All existing or eligible ADSC Contractor members\, Technical Affiliates and Associate Members are encouraged to attend. Registration includes – Continental breakfast\, box lunch\, green fees\, cart\, range balls\, gifts and prizes. \n\n\n\nAgenda:8:00 – 9:00 AM  Continental Breakfast/Registration9:00 – 11:00 AM Chapter Meeting /Presentation*11:00 – 12:00 PM Warmup / Box Lunch12:00 PM Golf (Shot Gun Start) Awards Ceremony / Dinner immediately after golf  * Speakers and/or Panelists TBD
URL:https://www.adsc-iafd.com/event/se-chapter-12th-annual-golf-outing/
LOCATION:Governors Towne Club\, 4545 Champions Walk Drive\, Acworth\, Georgia\, 30101\, United States
CATEGORIES:Chapter Events,Southeast
ATTACH;FMTTYPE=image/jpeg:https://www.adsc-iafd.com/wp-content/uploads/2025/01/adsc-southeast.jpg
END:VEVENT
END:VCALENDAR