BEGIN:VCALENDAR
VERSION:2.0
PRODID:-//www.adsc-iafd.com - ECPv6.15.20//NONSGML v1.0//EN
CALSCALE:GREGORIAN
METHOD:PUBLISH
X-ORIGINAL-URL:https://www.adsc-iafd.com
X-WR-CALDESC:Events for www.adsc-iafd.com
REFRESH-INTERVAL;VALUE=DURATION:PT1H
X-Robots-Tag:noindex
X-PUBLISHED-TTL:PT1H
BEGIN:VTIMEZONE
TZID:America/Detroit
BEGIN:DAYLIGHT
TZOFFSETFROM:-0500
TZOFFSETTO:-0400
TZNAME:EDT
DTSTART:20250309T070000
END:DAYLIGHT
BEGIN:STANDARD
TZOFFSETFROM:-0400
TZOFFSETTO:-0500
TZNAME:EST
DTSTART:20251102T060000
END:STANDARD
BEGIN:DAYLIGHT
TZOFFSETFROM:-0500
TZOFFSETTO:-0400
TZNAME:EDT
DTSTART:20260308T070000
END:DAYLIGHT
BEGIN:STANDARD
TZOFFSETFROM:-0400
TZOFFSETTO:-0500
TZNAME:EST
DTSTART:20261101T060000
END:STANDARD
BEGIN:DAYLIGHT
TZOFFSETFROM:-0500
TZOFFSETTO:-0400
TZNAME:EDT
DTSTART:20270314T070000
END:DAYLIGHT
BEGIN:STANDARD
TZOFFSETFROM:-0400
TZOFFSETTO:-0500
TZNAME:EST
DTSTART:20271107T060000
END:STANDARD
END:VTIMEZONE
BEGIN:VEVENT
DTSTART;TZID=America/Detroit:20260811T000000
DTEND;TZID=America/Detroit:20260813T235959
DTSTAMP:20260425T181149
CREATED:20260114T224122Z
LAST-MODIFIED:20260306T195344Z
UID:10000092-1786406400-1786665599@www.adsc-iafd.com
SUMMARY:DFI S3: Slopes\, Support and Stabilization
DESCRIPTION:Learn More Here\n\n\n\nJoin us for DFI S3: Slopes\, Support\, and Stabilization\, a dynamic 2.5-day conference dedicated to the practical application of deep foundation and ground improvement solutions. This event focuses on techniques for stabilizing soft ground\, landslides\, and slopes\, as well as supporting deep excavations. \n\n\n\nAgenda\n\n\n\nTuesday\, August 11 Conference Day 1• Technical Committee Meetings• Women in Deep Foundations ReceptionWednesday\, August 12 Conference Day 2• Exhibits\, Technical Sessions and Welcome ReceptionThursday\, August 13 Conference Day 3• Exhibits and Technical Sessions
URL:https://www.adsc-iafd.com/event/dfi-s3-slopes-support-and-stabilization-2/
CATEGORIES:Industry Events
ATTACH;FMTTYPE=image/png:https://www.adsc-iafd.com/wp-content/uploads/2026/01/S3-2024-Backdrop-with-S3-Image.png
END:VEVENT
BEGIN:VEVENT
DTSTART;TZID=America/Detroit:20260820T000000
DTEND;TZID=America/Detroit:20260820T235959
DTSTAMP:20260425T181149
CREATED:20260316T155911Z
LAST-MODIFIED:20260320T170520Z
UID:10000111-1787184000-1787270399@www.adsc-iafd.com
SUMMARY:Summer Meeting & Golf Outing
DESCRIPTION:More information coming soon!
URL:https://www.adsc-iafd.com/event/summer-meeting-golf-outing/
CATEGORIES:Northeast
ATTACH;FMTTYPE=image/jpeg:https://www.adsc-iafd.com/wp-content/uploads/2025/01/adsc-northeastern.jpg
END:VEVENT
BEGIN:VEVENT
DTSTART;TZID=America/Detroit:20260820T000000
DTEND;TZID=America/Detroit:20260820T235959
DTSTAMP:20260425T181149
CREATED:20260327T205947Z
LAST-MODIFIED:20260417T161548Z
UID:10000117-1787184000-1787270399@www.adsc-iafd.com
SUMMARY:The 2026 ADSC/CAGE/ASCE/SEAC Golf Tournament  
DESCRIPTION:Register\n\n\n\n\nCost:Foursome $850 member / $950 non-memberIndividual $225 member / $250 non-memberIncluded:Green Fees & CartBreakfast & LunchDrink TicketsRaffle Prizes$5\,000 Hole-in-One Contest3x $1\,000 Hole-in-One ContestsLongest Drive & Longest Putt PrizesSponsorship Opportunities:Hole Sponsor $300 (limit 10)Staffed Hole Sponsor $400 (limit 8)Hole Contest Sponsor $300 (limit 6)Beverage Cart Sponsor $550 (limit 2)Breakfast Sponsor $550 (limit 1)Lunch Sponsor $550 (limit 1)
URL:https://www.adsc-iafd.com/event/the-2026-adsc-cage-asce-seac-golf-tournament/
LOCATION:University of Denver Golf Club at Ranch\, 9000 Creekside Way\, Highlands Ranch\, Colorado\, 80129\, United States
CATEGORIES:Chapter Events,Rocky Mountain
ATTACH;FMTTYPE=image/jpeg:https://www.adsc-iafd.com/wp-content/uploads/2025/01/adsc-rocky-mountain.jpg
END:VEVENT
BEGIN:VEVENT
DTSTART;TZID=America/Detroit:20260820T000000
DTEND;TZID=America/Detroit:20260820T235959
DTSTAMP:20260425T181149
CREATED:20260414T180841Z
LAST-MODIFIED:20260414T180843Z
UID:10000118-1787184000-1787270399@www.adsc-iafd.com
SUMMARY:Summer Meeting & Golf Outing
DESCRIPTION:More information coming soon!
URL:https://www.adsc-iafd.com/event/summer-meeting-golf-outing-2/
LOCATION:Lake of Isles\, 1 Clubhouse Drive\, North Stonington\, Connecticut\, 06359\, United States
CATEGORIES:Chapter Events,Northeast
ATTACH;FMTTYPE=image/jpeg:https://www.adsc-iafd.com/wp-content/uploads/2025/01/adsc-northeastern.jpg
END:VEVENT
END:VCALENDAR