BEGIN:VCALENDAR
VERSION:2.0
PRODID:-//www.adsc-iafd.com - ECPv6.15.20//NONSGML v1.0//EN
CALSCALE:GREGORIAN
METHOD:PUBLISH
X-ORIGINAL-URL:https://www.adsc-iafd.com
X-WR-CALDESC:Events for www.adsc-iafd.com
REFRESH-INTERVAL;VALUE=DURATION:PT1H
X-Robots-Tag:noindex
X-PUBLISHED-TTL:PT1H
BEGIN:VTIMEZONE
TZID:America/Detroit
BEGIN:DAYLIGHT
TZOFFSETFROM:-0500
TZOFFSETTO:-0400
TZNAME:EDT
DTSTART:20240310T070000
END:DAYLIGHT
BEGIN:STANDARD
TZOFFSETFROM:-0400
TZOFFSETTO:-0500
TZNAME:EST
DTSTART:20241103T060000
END:STANDARD
BEGIN:DAYLIGHT
TZOFFSETFROM:-0500
TZOFFSETTO:-0400
TZNAME:EDT
DTSTART:20250309T070000
END:DAYLIGHT
BEGIN:STANDARD
TZOFFSETFROM:-0400
TZOFFSETTO:-0500
TZNAME:EST
DTSTART:20251102T060000
END:STANDARD
BEGIN:DAYLIGHT
TZOFFSETFROM:-0500
TZOFFSETTO:-0400
TZNAME:EDT
DTSTART:20260308T070000
END:DAYLIGHT
BEGIN:STANDARD
TZOFFSETFROM:-0400
TZOFFSETTO:-0500
TZNAME:EST
DTSTART:20261101T060000
END:STANDARD
END:VTIMEZONE
BEGIN:VEVENT
DTSTART;TZID=America/Detroit:20251001T103000
DTEND;TZID=America/Detroit:20251001T170000
DTSTAMP:20260425T174458
CREATED:20250123T223827Z
LAST-MODIFIED:20250918T185640Z
UID:10000030-1759314600-1759338000@www.adsc-iafd.com
SUMMARY:ADSC Fall Board Meeting
DESCRIPTION:Central Standard Time Zone \n\n\n\n\n\n\n\n\n\n\n\nRegister Here\n\n\n\nRegister now to receive the Teams link to join us for Fall Meeting 2025 on October 1st!  \n\n\n\nPlease email Gabby Hawkins at ghawkins@adsc-iafd.com with any questions.  \n\n\n\nAgendaAll meeting times are CST. \n\n\n\n10:30 AMSafety Committee Meeting11:30 AMEducation Task Force 12:30 PMLunch Break 1:00 PM Associates Committee Meeting2:00 PM Membership Task Force Meeting3:00 PMBreak3:15 PM Drilled Shaft Committee Meeting4:15 PMGeneral Membership Meeting
URL:https://www.adsc-iafd.com/event/adsc-fall-board-meeting/
CATEGORIES:National Events
ATTACH;FMTTYPE=image/jpeg:https://www.adsc-iafd.com/wp-content/uploads/2025/01/Fall-Meeting-1.jpg
LOCATION:https://www.adsc-iafd.com/event/adsc-fall-board-meeting/
END:VEVENT
BEGIN:VEVENT
DTSTART;TZID=America/Detroit:20251003T100000
DTEND;TZID=America/Detroit:20251003T113000
DTSTAMP:20260425T174458
CREATED:20250709T135346Z
LAST-MODIFIED:20250919T135038Z
UID:10000057-1759485600-1759491000@www.adsc-iafd.com
SUMMARY:Fall 2025 Board Meeting
DESCRIPTION:Contact Becky Patterson at  beckypatterson@adscwest.org for the log in information.
URL:https://www.adsc-iafd.com/event/fall-2025-board-meeting-2/
CATEGORIES:Chapter Events,West Coast
ATTACH;FMTTYPE=image/jpeg:https://www.adsc-iafd.com/wp-content/uploads/2025/01/adsc-west-coast.jpg
LOCATION:https://www.adsc-iafd.com/event/fall-2025-board-meeting-2/
END:VEVENT
BEGIN:VEVENT
DTSTART;TZID=America/Detroit:20251003T100000
DTEND;TZID=America/Detroit:20251003T120000
DTSTAMP:20260425T174458
CREATED:20250617T213553Z
LAST-MODIFIED:20250617T213553Z
UID:10000050-1759485600-1759492800@www.adsc-iafd.com
SUMMARY:Fall 2025 Board Meeting
DESCRIPTION:
URL:https://www.adsc-iafd.com/event/fall-2025-board-meeting/
LOCATION:
END:VEVENT
BEGIN:VEVENT
DTSTART;TZID=America/Detroit:20251007T000000
DTEND;TZID=America/Detroit:20251009T235959
DTSTAMP:20260425T174458
CREATED:20250123T225317Z
LAST-MODIFIED:20250708T181625Z
UID:10000037-1759795200-1760054399@www.adsc-iafd.com
SUMMARY:The Utility Expo
DESCRIPTION:
URL:https://www.adsc-iafd.com/event/the-utility-expo/
LOCATION:Louisville\, KY\, Louisville\, KY
CATEGORIES:Industry Events
ATTACH;FMTTYPE=image/jpeg:https://www.adsc-iafd.com/wp-content/uploads/2025/01/e3-aO5bA.jpg
END:VEVENT
BEGIN:VEVENT
DTSTART;TZID=America/Detroit:20251020T000000
DTEND;TZID=America/Detroit:20251023T235959
DTSTAMP:20260425T174458
CREATED:20250123T225427Z
LAST-MODIFIED:20250708T181802Z
UID:10000038-1760918400-1761263999@www.adsc-iafd.com
SUMMARY:DFI 50
DESCRIPTION:
URL:https://www.adsc-iafd.com/event/dfi-50/
LOCATION:Nashville\, TN\, Nashville\, TN
CATEGORIES:Industry Events
ATTACH;FMTTYPE=image/jpeg:https://www.adsc-iafd.com/wp-content/uploads/2025/01/igBvVW2w.jpg
END:VEVENT
BEGIN:VEVENT
DTSTART;TZID=America/Detroit:20251030T160000
DTEND;TZID=America/Detroit:20251030T190000
DTSTAMP:20260425T174458
CREATED:20250918T144421Z
LAST-MODIFIED:20250918T165621Z
UID:10000066-1761840000-1761850800@www.adsc-iafd.com
SUMMARY:Fall Planning Meeting
DESCRIPTION:CC Authorization Form\n\n\n\nPlease email Kyle Thompson (kthompson@phxfnd.com) and Allison Filas (allison.filas@skanska.com) with cc authorization form to register.  \n\n\n\nAgenda:4 PM – 5 PM Fall Planning Meeting5 PM – 7 PM Dinner and PresentationPresentation Title:“Legal Considerations with Artificial Intelligence Surrounding the Construction Industry”Featured Speaker: Richard Kalson\, Esq.\, Cozen O’Connor \n\n\n\nRegistration: $50/personMeeting Sponsor: $300
URL:https://www.adsc-iafd.com/event/fall-planning-meeting/
LOCATION:Rye Bar and Grill\, 1 Station Plaza\, New York\, 10580\, United States
CATEGORIES:Chapter Events,Northeast
ATTACH;FMTTYPE=image/jpeg:https://www.adsc-iafd.com/wp-content/uploads/2025/01/adsc-northeastern.jpg
END:VEVENT
END:VCALENDAR