BEGIN:VCALENDAR
VERSION:2.0
PRODID:-//www.adsc-iafd.com - ECPv6.15.20//NONSGML v1.0//EN
CALSCALE:GREGORIAN
METHOD:PUBLISH
X-WR-CALNAME:www.adsc-iafd.com
X-ORIGINAL-URL:https://www.adsc-iafd.com
X-WR-CALDESC:Events for www.adsc-iafd.com
REFRESH-INTERVAL;VALUE=DURATION:PT1H
X-Robots-Tag:noindex
X-PUBLISHED-TTL:PT1H
BEGIN:VTIMEZONE
TZID:America/Detroit
BEGIN:DAYLIGHT
TZOFFSETFROM:-0500
TZOFFSETTO:-0400
TZNAME:EDT
DTSTART:20250309T070000
END:DAYLIGHT
BEGIN:STANDARD
TZOFFSETFROM:-0400
TZOFFSETTO:-0500
TZNAME:EST
DTSTART:20251102T060000
END:STANDARD
BEGIN:DAYLIGHT
TZOFFSETFROM:-0500
TZOFFSETTO:-0400
TZNAME:EDT
DTSTART:20260308T070000
END:DAYLIGHT
BEGIN:STANDARD
TZOFFSETFROM:-0400
TZOFFSETTO:-0500
TZNAME:EST
DTSTART:20261101T060000
END:STANDARD
BEGIN:DAYLIGHT
TZOFFSETFROM:-0500
TZOFFSETTO:-0400
TZNAME:EDT
DTSTART:20270314T070000
END:DAYLIGHT
BEGIN:STANDARD
TZOFFSETFROM:-0400
TZOFFSETTO:-0500
TZNAME:EST
DTSTART:20271107T060000
END:STANDARD
END:VTIMEZONE
BEGIN:VEVENT
DTSTART;TZID=America/Detroit:20260503T000000
DTEND;TZID=America/Detroit:20260504T235959
DTSTAMP:20260425T080017
CREATED:20251223T174935Z
LAST-MODIFIED:20260316T164400Z
UID:10000089-1777766400-1777939199@www.adsc-iafd.com
SUMMARY:Jim Harmston Memorial Golf Tournament
DESCRIPTION:Register\n\n\n\nThe ADSC Carolinas Chapter will host its Annual Golf Tournament\, now known as the Jim Harmston Memorial Golf Tournament\, on May 3–4 at the Grandover Resort and Conference Center in Greensboro\, NC. Please register by Friday\, April 24. \n\n\n\nThanks to the generous support of sponsors\, this tournament serves as a major fundraiser for the chapter\, supporting education\, research and development\, and the Industry Advancement Fund. \n\n\n\nRoom Block Information:Hotel rooms can be made by calling the hotel directly: 1-800-472-6301 and using group Code: # 050326ADSC -or- By following this link: Reservations – Grandover Resort & Spa\, a Wyndham Grand Hot There is limited room availability for Saturday night\, May 2.AgendaSunday\, May 35:30 PM – 8:00 PM Cocktail ReceptionMonday\, May 47:00 AM – 8:30 AM Breakfast9:00 AM Golf with Shotgun Start2:00 PM – 3:15 PM Lunch and Award Ceremony \n\n\n\nFor any questions\, please reach out to Jeff Harmston at JHarmston@ecanet.com and/or Kent Walker at kent.walker@ischebeckusa.com.
URL:https://www.adsc-iafd.com/event/annual-golf-tournament/
LOCATION:Grandover Resort & Conference Center\, 1000 Club Rd\, Greensboro\, NC\, 27407
CATEGORIES:Carolinas,Chapter Events
ATTACH;FMTTYPE=image/jpeg:https://www.adsc-iafd.com/wp-content/uploads/2025/01/adsc-carolinas.jpg
END:VEVENT
BEGIN:VEVENT
DTSTART;TZID=America/Detroit:20260714T000000
DTEND;TZID=America/Detroit:20260715T235959
DTSTAMP:20260425T080017
CREATED:20251223T175152Z
LAST-MODIFIED:20260102T173733Z
UID:10000090-1783987200-1784159999@www.adsc-iafd.com
SUMMARY:Chapter Meeting
DESCRIPTION:More information coming soon! For any questions\, please reach out to Jeff Harmston at JHarmston@ecanet.com and/or Kent Walker at kent.walker@ischebeckusa.com.
URL:https://www.adsc-iafd.com/event/chapter-meeting-2/
CATEGORIES:Carolinas,Chapter Events
ATTACH;FMTTYPE=image/jpeg:https://www.adsc-iafd.com/wp-content/uploads/2025/01/adsc-carolinas.jpg
END:VEVENT
BEGIN:VEVENT
DTSTART;TZID=America/Detroit:20261104T000000
DTEND;TZID=America/Detroit:20261105T235959
DTSTAMP:20260425T080017
CREATED:20251223T175418Z
LAST-MODIFIED:20260102T173812Z
UID:10000091-1793750400-1793923199@www.adsc-iafd.com
SUMMARY:Engineering Summit 
DESCRIPTION:More information coming soon! For any questions\, please reach out to Jeff Harmston at JHarmston@ecanet.com and/or Kent Walker at kent.walker@ischebeckusa.com.
URL:https://www.adsc-iafd.com/event/engineering-summit/
LOCATION:Charlotte Motor Speedway\, 5555 Concord Pkwy S\, Concord\, North Carolina\, 28027\, United States
CATEGORIES:Carolinas,Chapter Events
ATTACH;FMTTYPE=image/jpeg:https://www.adsc-iafd.com/wp-content/uploads/2025/01/adsc-carolinas.jpg
END:VEVENT
END:VCALENDAR