BEGIN:VCALENDAR
VERSION:2.0
PRODID:-//www.adsc-iafd.com - ECPv6.15.20//NONSGML v1.0//EN
CALSCALE:GREGORIAN
METHOD:PUBLISH
X-WR-CALNAME:www.adsc-iafd.com
X-ORIGINAL-URL:https://www.adsc-iafd.com
X-WR-CALDESC:Events for www.adsc-iafd.com
REFRESH-INTERVAL;VALUE=DURATION:PT1H
X-Robots-Tag:noindex
X-PUBLISHED-TTL:PT1H
BEGIN:VTIMEZONE
TZID:America/Detroit
BEGIN:DAYLIGHT
TZOFFSETFROM:-0500
TZOFFSETTO:-0400
TZNAME:EDT
DTSTART:20250309T070000
END:DAYLIGHT
BEGIN:STANDARD
TZOFFSETFROM:-0400
TZOFFSETTO:-0500
TZNAME:EST
DTSTART:20251102T060000
END:STANDARD
BEGIN:DAYLIGHT
TZOFFSETFROM:-0500
TZOFFSETTO:-0400
TZNAME:EDT
DTSTART:20260308T070000
END:DAYLIGHT
BEGIN:STANDARD
TZOFFSETFROM:-0400
TZOFFSETTO:-0500
TZNAME:EST
DTSTART:20261101T060000
END:STANDARD
BEGIN:DAYLIGHT
TZOFFSETFROM:-0500
TZOFFSETTO:-0400
TZNAME:EDT
DTSTART:20270314T070000
END:DAYLIGHT
BEGIN:STANDARD
TZOFFSETFROM:-0400
TZOFFSETTO:-0500
TZNAME:EST
DTSTART:20271107T060000
END:STANDARD
END:VTIMEZONE
BEGIN:VEVENT
DTSTART;TZID=America/Detroit:20260607T070000
DTEND;TZID=America/Detroit:20260612T170000
DTSTAMP:20260425T130027
CREATED:20251015T193817Z
LAST-MODIFIED:20260323T182749Z
UID:10000073-1780815600-1781283600@www.adsc-iafd.com
SUMMARY:2026 Civil Engineering Faculty Workshop
DESCRIPTION:Download the Application\n\nDownload the Current Schedule\n\n\n\nADSC: The International Association of Foundation Drilling will bring together the leading foundation engineering faculty members in North America for this intensive five-day workshop. The workshop will cover the state-of-the-art in the design\, construction\, and testing of drilled shafts\, anchored earth retention systems and micropiles. This industry education event has been formulated to provide attendees with the information needed to instruct undergraduate and graduate courses in the foundation and earth retention technologies covered. Please complete the information above to be considered to attend the workshop. Expenses will be paid by ADSC-IAF\, excluding travel to and from Boston\, Massachusetts. Return this application and a detailed resume (include in your resume specific experience with drilled shafts\, anchored earth retention systems\, and micropile design\, construction and teaching). Limited to 50 participants.Applications and Resumes must be received by December 1\, 2025. Return your completed application form and your resume to Tina Greenwell (tgreenwell@adsc-iafd.com)
URL:https://www.adsc-iafd.com/event/2026-civil-engineering-faculty-workshop/
LOCATION:Boston\, Massachusetts
CATEGORIES:National Events
ATTACH;FMTTYPE=image/png:https://www.adsc-iafd.com/wp-content/uploads/2025/10/FacultyWorkshopLogo.png
END:VEVENT
BEGIN:VEVENT
DTSTART;TZID=America/Detroit:20260624T000000
DTEND;TZID=America/Detroit:20260626T235959
DTSTAMP:20260425T130027
CREATED:20250123T225553Z
LAST-MODIFIED:20260220T202859Z
UID:10000039-1782259200-1782518399@www.adsc-iafd.com
SUMMARY:DFI-SuperPile ’26
DESCRIPTION:Register Here\n\nCall for Abstracts\n\n\n\nTechnical committees of DFI and ADSC combine their industry expertise to organize SuperPile ’26. The three-day event will include technical committee meetings along with presentations on the latest developments in piling foundations.AgendaWednesday\, June 24 Conference Day 1Technical Committee Meetings and Women in Deep Foundations Networking ReceptionThursday\, June 25 Conference Day 2Exhibits\, Technical Sessions and Welcome ReceptionFriday\, June 26 Conference Day 3Exhibits\, Technical Sessions and Closing Plenary
URL:https://www.adsc-iafd.com/event/dfi-superpile-26/
LOCATION:New Orleans Marriott\, 555 Canal Street\, New Orleans\, Illinois\, 70130\, United States
CATEGORIES:Industry Events,National Events
ATTACH;FMTTYPE=image/jpeg:https://www.adsc-iafd.com/wp-content/uploads/2025/01/FaVaxWXg.jpg
END:VEVENT
END:VCALENDAR