BEGIN:VCALENDAR
VERSION:2.0
PRODID:-//www.adsc-iafd.com - ECPv6.15.20//NONSGML v1.0//EN
CALSCALE:GREGORIAN
METHOD:PUBLISH
X-ORIGINAL-URL:https://www.adsc-iafd.com
X-WR-CALDESC:Events for www.adsc-iafd.com
REFRESH-INTERVAL;VALUE=DURATION:PT1H
X-Robots-Tag:noindex
X-PUBLISHED-TTL:PT1H
BEGIN:VTIMEZONE
TZID:America/Detroit
BEGIN:DAYLIGHT
TZOFFSETFROM:-0500
TZOFFSETTO:-0400
TZNAME:EDT
DTSTART:20250309T070000
END:DAYLIGHT
BEGIN:STANDARD
TZOFFSETFROM:-0400
TZOFFSETTO:-0500
TZNAME:EST
DTSTART:20251102T060000
END:STANDARD
BEGIN:DAYLIGHT
TZOFFSETFROM:-0500
TZOFFSETTO:-0400
TZNAME:EDT
DTSTART:20260308T070000
END:DAYLIGHT
BEGIN:STANDARD
TZOFFSETFROM:-0400
TZOFFSETTO:-0500
TZNAME:EST
DTSTART:20261101T060000
END:STANDARD
BEGIN:DAYLIGHT
TZOFFSETFROM:-0500
TZOFFSETTO:-0400
TZNAME:EDT
DTSTART:20270314T070000
END:DAYLIGHT
BEGIN:STANDARD
TZOFFSETFROM:-0400
TZOFFSETTO:-0500
TZNAME:EST
DTSTART:20271107T060000
END:STANDARD
END:VTIMEZONE
BEGIN:VEVENT
DTSTART;TZID=America/Detroit:20260111T000000
DTEND;TZID=America/Detroit:20260115T235959
DTSTAMP:20260425T181015
CREATED:20251029T160311Z
LAST-MODIFIED:20251029T163333Z
UID:10000075-1768089600-1768521599@www.adsc-iafd.com
SUMMARY:TRB Annual Meeting 2026
DESCRIPTION:Learn More\n\n\n\nWe look forward to seeing you in Washington\, D.C. for the Transportation Research Board (TRB) Annual Meeting January 11–15\, 2026! The meeting program covers all transportation modes\, with sessions and workshops addressing topics of interest to policy makers\, administrators\, practitioners\, researchers\, and representatives of government\, industry\, and academic institutions.Details about the 2026 program\, including abstracts of all papers\, will be made available in the Fall.
URL:https://www.adsc-iafd.com/event/trb-annual-meeting-2026/
LOCATION:Colorado
CATEGORIES:Industry Events
ATTACH;FMTTYPE=image/png:https://www.adsc-iafd.com/wp-content/uploads/2025/10/TRB-Annual-Meeting-1.png
END:VEVENT
END:VCALENDAR