BEGIN:VCALENDAR
VERSION:2.0
PRODID:-//www.adsc-iafd.com - ECPv6.15.20//NONSGML v1.0//EN
CALSCALE:GREGORIAN
METHOD:PUBLISH
X-ORIGINAL-URL:https://www.adsc-iafd.com
X-WR-CALDESC:Events for www.adsc-iafd.com
REFRESH-INTERVAL;VALUE=DURATION:PT1H
X-Robots-Tag:noindex
X-PUBLISHED-TTL:PT1H
BEGIN:VTIMEZONE
TZID:America/Detroit
BEGIN:DAYLIGHT
TZOFFSETFROM:-0500
TZOFFSETTO:-0400
TZNAME:EDT
DTSTART:20250309T070000
END:DAYLIGHT
BEGIN:STANDARD
TZOFFSETFROM:-0400
TZOFFSETTO:-0500
TZNAME:EST
DTSTART:20251102T060000
END:STANDARD
BEGIN:DAYLIGHT
TZOFFSETFROM:-0500
TZOFFSETTO:-0400
TZNAME:EDT
DTSTART:20260308T070000
END:DAYLIGHT
BEGIN:STANDARD
TZOFFSETFROM:-0400
TZOFFSETTO:-0500
TZNAME:EST
DTSTART:20261101T060000
END:STANDARD
BEGIN:DAYLIGHT
TZOFFSETFROM:-0500
TZOFFSETTO:-0400
TZNAME:EDT
DTSTART:20270314T070000
END:DAYLIGHT
BEGIN:STANDARD
TZOFFSETFROM:-0400
TZOFFSETTO:-0500
TZNAME:EST
DTSTART:20271107T060000
END:STANDARD
END:VTIMEZONE
BEGIN:VEVENT
DTSTART;TZID=America/Detroit:20260107T000000
DTEND;TZID=America/Detroit:20260107T235959
DTSTAMP:20260425T181016
CREATED:20251029T165220Z
LAST-MODIFIED:20251029T171716Z
UID:10000076-1767744000-1767830399@www.adsc-iafd.com
SUMMARY:The Moles Annual Awards Dinner
DESCRIPTION:Learn More\n\nReserve Your Room\n\n\n\nRegistration will open by October 31st! Hotel Block Cutoff date is December 16\, 2025\, or when sold out\, whichever occurs first.
URL:https://www.adsc-iafd.com/event/the-moles-annual-awards-dinner/
LOCATION:Marriott Marquis New York\, 1535 Broadway\, New York\, New York\, 10036\, United States
CATEGORIES:Industry Events
ATTACH;FMTTYPE=image/png:https://www.adsc-iafd.com/wp-content/uploads/2025/10/TheMoles26.png
END:VEVENT
END:VCALENDAR