BEGIN:VCALENDAR
VERSION:2.0
PRODID:-//www.adsc-iafd.com - ECPv6.15.20//NONSGML v1.0//EN
CALSCALE:GREGORIAN
METHOD:PUBLISH
X-WR-CALNAME:www.adsc-iafd.com
X-ORIGINAL-URL:https://www.adsc-iafd.com
X-WR-CALDESC:Events for www.adsc-iafd.com
REFRESH-INTERVAL;VALUE=DURATION:PT1H
X-Robots-Tag:noindex
X-PUBLISHED-TTL:PT1H
BEGIN:VTIMEZONE
TZID:America/Detroit
BEGIN:DAYLIGHT
TZOFFSETFROM:-0500
TZOFFSETTO:-0400
TZNAME:EDT
DTSTART:20190310T070000
END:DAYLIGHT
BEGIN:STANDARD
TZOFFSETFROM:-0400
TZOFFSETTO:-0500
TZNAME:EST
DTSTART:20191103T060000
END:STANDARD
BEGIN:DAYLIGHT
TZOFFSETFROM:-0500
TZOFFSETTO:-0400
TZNAME:EDT
DTSTART:20200308T070000
END:DAYLIGHT
BEGIN:STANDARD
TZOFFSETFROM:-0400
TZOFFSETTO:-0500
TZNAME:EST
DTSTART:20201101T060000
END:STANDARD
BEGIN:DAYLIGHT
TZOFFSETFROM:-0500
TZOFFSETTO:-0400
TZNAME:EDT
DTSTART:20210314T070000
END:DAYLIGHT
BEGIN:STANDARD
TZOFFSETFROM:-0400
TZOFFSETTO:-0500
TZNAME:EST
DTSTART:20211107T060000
END:STANDARD
BEGIN:DAYLIGHT
TZOFFSETFROM:-0500
TZOFFSETTO:-0400
TZNAME:EDT
DTSTART:20220313T070000
END:DAYLIGHT
BEGIN:STANDARD
TZOFFSETFROM:-0400
TZOFFSETTO:-0500
TZNAME:EST
DTSTART:20221106T060000
END:STANDARD
BEGIN:DAYLIGHT
TZOFFSETFROM:-0500
TZOFFSETTO:-0400
TZNAME:EDT
DTSTART:20230312T070000
END:DAYLIGHT
BEGIN:STANDARD
TZOFFSETFROM:-0400
TZOFFSETTO:-0500
TZNAME:EST
DTSTART:20231105T060000
END:STANDARD
BEGIN:DAYLIGHT
TZOFFSETFROM:-0500
TZOFFSETTO:-0400
TZNAME:EDT
DTSTART:20240310T070000
END:DAYLIGHT
BEGIN:STANDARD
TZOFFSETFROM:-0400
TZOFFSETTO:-0500
TZNAME:EST
DTSTART:20241103T060000
END:STANDARD
BEGIN:DAYLIGHT
TZOFFSETFROM:-0500
TZOFFSETTO:-0400
TZNAME:EDT
DTSTART:20250309T070000
END:DAYLIGHT
BEGIN:STANDARD
TZOFFSETFROM:-0400
TZOFFSETTO:-0500
TZNAME:EST
DTSTART:20251102T060000
END:STANDARD
BEGIN:DAYLIGHT
TZOFFSETFROM:-0500
TZOFFSETTO:-0400
TZNAME:EDT
DTSTART:20260308T070000
END:DAYLIGHT
BEGIN:STANDARD
TZOFFSETFROM:-0400
TZOFFSETTO:-0500
TZNAME:EST
DTSTART:20261101T060000
END:STANDARD
BEGIN:DAYLIGHT
TZOFFSETFROM:-0500
TZOFFSETTO:-0400
TZNAME:EDT
DTSTART:20270314T070000
END:DAYLIGHT
BEGIN:STANDARD
TZOFFSETFROM:-0400
TZOFFSETTO:-0500
TZNAME:EST
DTSTART:20271107T060000
END:STANDARD
END:VTIMEZONE
BEGIN:VEVENT
DTSTART;TZID=America/Detroit:20260109T100000
DTEND;TZID=America/Detroit:20260109T120000
DTSTAMP:20260425T125838
CREATED:20250617T214037Z
LAST-MODIFIED:20251205T144712Z
UID:10000051-1767952800-1767960000@www.adsc-iafd.com
SUMMARY:Winter 2026 Board Meeting
DESCRIPTION:Learn More\n\n\n\nPlease RSVP by emailing Becky Patterson at beckypatterson@adscwest.org
URL:https://www.adsc-iafd.com/event/winter-2026-board-meeting/
LOCATION:Casagrande\, 555 Galveston St\, Sacramento\, CA\, 95691\, United States
CATEGORIES:Chapter Events,West Coast
ATTACH;FMTTYPE=image/jpeg:https://www.adsc-iafd.com/wp-content/uploads/2025/01/adsc-west-coast.jpg
END:VEVENT
BEGIN:VEVENT
DTSTART;TZID=America/Detroit:20251003T100000
DTEND;TZID=America/Detroit:20251003T113000
DTSTAMP:20260425T125838
CREATED:20250709T135346Z
LAST-MODIFIED:20250919T135038Z
UID:10000057-1759485600-1759491000@www.adsc-iafd.com
SUMMARY:Fall 2025 Board Meeting
DESCRIPTION:Contact Becky Patterson at  beckypatterson@adscwest.org for the log in information.
URL:https://www.adsc-iafd.com/event/fall-2025-board-meeting-2/
CATEGORIES:Chapter Events,West Coast
ATTACH;FMTTYPE=image/jpeg:https://www.adsc-iafd.com/wp-content/uploads/2025/01/adsc-west-coast.jpg
LOCATION:https://www.adsc-iafd.com/event/fall-2025-board-meeting-2/
END:VEVENT
BEGIN:VEVENT
DTSTART;VALUE=DATE:20250515
DTEND;VALUE=DATE:20250518
DTSTAMP:20260425T125838
CREATED:20250123T222650Z
LAST-MODIFIED:20250123T222650Z
UID:10000025-1747267200-1747526399@www.adsc-iafd.com
SUMMARY:41st Annual Board Meeting
DESCRIPTION:
URL:https://www.adsc-iafd.com/event/41st-annual-board-meeting/
LOCATION:Allegretto Vineyard Resort\, 2700 Buena Vista Dr\, Paso Robles\, CA\, 93446
CATEGORIES:West Coast
END:VEVENT
BEGIN:VEVENT
DTSTART;VALUE=DATE:20250127
DTEND;VALUE=DATE:20250128
DTSTAMP:20260425T125838
CREATED:20250123T222337Z
LAST-MODIFIED:20250123T222337Z
UID:10000024-1737936000-1738022399@www.adsc-iafd.com
SUMMARY:West Coast Chapter Winter 2025 Board Meeting (in Conjunction with ADSC Annual)
DESCRIPTION:
URL:https://www.adsc-iafd.com/event/west-coast-chapter-winter-2025-board-meeting-in-conjunction-with-adsc-annual/
LOCATION:Coronado Island Resort\, 2000 2nd St\, Coronado\, CA\, 92118
CATEGORIES:West Coast
END:VEVENT
BEGIN:VEVENT
DTSTART;TZID=America/Detroit:20200101T080000
DTEND;TZID=America/Detroit:20200101T170000
DTSTAMP:20260425T125838
CREATED:20250123T190940Z
LAST-MODIFIED:20250123T190941Z
UID:10000015-1577865600-1577898000@www.adsc-iafd.com
SUMMARY:Chapter West Coast Event Placeholder
DESCRIPTION:
URL:https://www.adsc-iafd.com/event/chapter-west-coast-event-placeholder/
CATEGORIES:Chapter Events,West Coast
END:VEVENT
END:VCALENDAR