BEGIN:VCALENDAR
VERSION:2.0
PRODID:-//www.adsc-iafd.com - ECPv6.15.20//NONSGML v1.0//EN
CALSCALE:GREGORIAN
METHOD:PUBLISH
X-WR-CALNAME:www.adsc-iafd.com
X-ORIGINAL-URL:https://www.adsc-iafd.com
X-WR-CALDESC:Events for www.adsc-iafd.com
REFRESH-INTERVAL;VALUE=DURATION:PT1H
X-Robots-Tag:noindex
X-PUBLISHED-TTL:PT1H
BEGIN:VTIMEZONE
TZID:America/Detroit
BEGIN:DAYLIGHT
TZOFFSETFROM:-0500
TZOFFSETTO:-0400
TZNAME:EDT
DTSTART:20250309T070000
END:DAYLIGHT
BEGIN:STANDARD
TZOFFSETFROM:-0400
TZOFFSETTO:-0500
TZNAME:EST
DTSTART:20251102T060000
END:STANDARD
BEGIN:DAYLIGHT
TZOFFSETFROM:-0500
TZOFFSETTO:-0400
TZNAME:EDT
DTSTART:20260308T070000
END:DAYLIGHT
BEGIN:STANDARD
TZOFFSETFROM:-0400
TZOFFSETTO:-0500
TZNAME:EST
DTSTART:20261101T060000
END:STANDARD
BEGIN:DAYLIGHT
TZOFFSETFROM:-0500
TZOFFSETTO:-0400
TZNAME:EDT
DTSTART:20270314T070000
END:DAYLIGHT
BEGIN:STANDARD
TZOFFSETFROM:-0400
TZOFFSETTO:-0500
TZNAME:EST
DTSTART:20271107T060000
END:STANDARD
END:VTIMEZONE
BEGIN:VEVENT
DTSTART;TZID=America/Detroit:20260820T000000
DTEND;TZID=America/Detroit:20260820T235959
DTSTAMP:20260425T113437
CREATED:20260414T180841Z
LAST-MODIFIED:20260414T180843Z
UID:10000118-1787184000-1787270399@www.adsc-iafd.com
SUMMARY:Summer Meeting & Golf Outing
DESCRIPTION:More information coming soon!
URL:https://www.adsc-iafd.com/event/summer-meeting-golf-outing-2/
LOCATION:Lake of Isles\, 1 Clubhouse Drive\, North Stonington\, Connecticut\, 06359\, United States
CATEGORIES:Chapter Events,Northeast
ATTACH;FMTTYPE=image/jpeg:https://www.adsc-iafd.com/wp-content/uploads/2025/01/adsc-northeastern.jpg
END:VEVENT
BEGIN:VEVENT
DTSTART;TZID=America/Detroit:20260913T000000
DTEND;TZID=America/Detroit:20260914T235959
DTSTAMP:20260425T113437
CREATED:20260327T205053Z
LAST-MODIFIED:20260327T205055Z
UID:10000115-1789257600-1789430399@www.adsc-iafd.com
SUMMARY:Bill Maher Memorial Golf Outing
DESCRIPTION:More information coming soon!
URL:https://www.adsc-iafd.com/event/bill-maher-memorial-golf-outing-2/
LOCATION:Rocky Gap Resort\, 16701 Lakeview Rd NE\, Flintstone\, MD\, 21530 - 1059\, United States
CATEGORIES:Chapter Events,Mid-Atlantic
ATTACH;FMTTYPE=image/jpeg:https://www.adsc-iafd.com/wp-content/uploads/2025/01/adsc-mid-atlantic.jpg
END:VEVENT
BEGIN:VEVENT
DTSTART;TZID=America/Detroit:20260921T000000
DTEND;TZID=America/Detroit:20260922T235959
DTSTAMP:20260425T113437
CREATED:20260121T193509Z
LAST-MODIFIED:20260121T193543Z
UID:10000093-1789948800-1790121599@www.adsc-iafd.com
SUMMARY:Fall Meeting
DESCRIPTION:
URL:https://www.adsc-iafd.com/event/fall-meeting-2/
LOCATION:Lake Geneva\, WI\, Lake Geneva\, WI
CATEGORIES:Midwest
ATTACH;FMTTYPE=image/jpeg:https://www.adsc-iafd.com/wp-content/uploads/2025/01/adsc-miswest.jpg
END:VEVENT
BEGIN:VEVENT
DTSTART;TZID=America/Detroit:20261001T000000
DTEND;TZID=America/Detroit:20261001T235959
DTSTAMP:20260425T113437
CREATED:20260316T160325Z
LAST-MODIFIED:20260407T194458Z
UID:10000112-1790812800-1790899199@www.adsc-iafd.com
SUMMARY:Micropile Seminar
DESCRIPTION:The ADSC Northeast Chapter is excited to introduce a new event this year. The chapter is planning a one-day Micropile Seminar in New York City focused on industry best practices\, design\, and construction of micropiles. Additional details will be shared as the program develops.
URL:https://www.adsc-iafd.com/event/micropile-seminar-2/
LOCATION:New York Marriott Marquis\, 1535 Broadway\, New York\, New York\, 10036\, United States
CATEGORIES:Northeast
ATTACH;FMTTYPE=image/jpeg:https://www.adsc-iafd.com/wp-content/uploads/2025/01/adsc-northeastern.jpg
END:VEVENT
BEGIN:VEVENT
DTSTART;TZID=America/Detroit:20261104T000000
DTEND;TZID=America/Detroit:20261105T235959
DTSTAMP:20260425T113437
CREATED:20251223T175418Z
LAST-MODIFIED:20260102T173812Z
UID:10000091-1793750400-1793923199@www.adsc-iafd.com
SUMMARY:Engineering Summit 
DESCRIPTION:More information coming soon! For any questions\, please reach out to Jeff Harmston at JHarmston@ecanet.com and/or Kent Walker at kent.walker@ischebeckusa.com.
URL:https://www.adsc-iafd.com/event/engineering-summit/
LOCATION:Charlotte Motor Speedway\, 5555 Concord Pkwy S\, Concord\, North Carolina\, 28027\, United States
CATEGORIES:Carolinas,Chapter Events
ATTACH;FMTTYPE=image/jpeg:https://www.adsc-iafd.com/wp-content/uploads/2025/01/adsc-carolinas.jpg
END:VEVENT
BEGIN:VEVENT
DTSTART;TZID=America/Detroit:20261106T000000
DTEND;TZID=America/Detroit:20261106T235959
DTSTAMP:20260425T113437
CREATED:20250926T162514Z
LAST-MODIFIED:20251001T153211Z
UID:10000070-1793923200-1794009599@www.adsc-iafd.com
SUMMARY:Bi-Annual Rocky Mountain Geo-Conference 2026
DESCRIPTION:Email your Abstract Submissions by October 30\,2025 to jm.arthurs@gmail.com. Topics: Geotechnical & Geological Projects\, Research and Lessons Learned in the Rocky Mountain Region. Accepted Papers will be Published as a Geotechnical Practice Publication (GPP
URL:https://www.adsc-iafd.com/event/bi-annual-rocky-mountain-geo-conference-2026/
LOCATION:Renaissance Denver Hotel & Conference Center\, 801 Quebec St\, Denver\, Colorado\, 80207\, United States
CATEGORIES:Chapter Events,Rocky Mountain
ATTACH;FMTTYPE=image/jpeg:https://www.adsc-iafd.com/wp-content/uploads/2025/01/adsc-rocky-mountain.jpg
END:VEVENT
BEGIN:VEVENT
DTSTART;TZID=America/Detroit:20261111T000000
DTEND;TZID=America/Detroit:20261111T235959
DTSTAMP:20260425T113437
CREATED:20260327T205331Z
LAST-MODIFIED:20260327T205333Z
UID:10000116-1794355200-1794441599@www.adsc-iafd.com
SUMMARY:Sporting Clay Shoot
DESCRIPTION:More information coming soon!
URL:https://www.adsc-iafd.com/event/sporting-clay-shoot/
LOCATION:The Point at Pintail Sporting Clay School\, 511 Pintail Point Farm Ln\, Queenstown\, Maryland\, 21658\, United States
CATEGORIES:Chapter Events,Mid-Atlantic
ATTACH;FMTTYPE=image/jpeg:https://www.adsc-iafd.com/wp-content/uploads/2025/01/adsc-mid-atlantic.jpg
END:VEVENT
END:VCALENDAR