BEGIN:VCALENDAR
VERSION:2.0
PRODID:-//www.adsc-iafd.com - ECPv6.15.20//NONSGML v1.0//EN
CALSCALE:GREGORIAN
METHOD:PUBLISH
X-ORIGINAL-URL:https://www.adsc-iafd.com
X-WR-CALDESC:Events for www.adsc-iafd.com
REFRESH-INTERVAL;VALUE=DURATION:PT1H
X-Robots-Tag:noindex
X-PUBLISHED-TTL:PT1H
BEGIN:VTIMEZONE
TZID:America/Detroit
BEGIN:DAYLIGHT
TZOFFSETFROM:-0500
TZOFFSETTO:-0400
TZNAME:EDT
DTSTART:20190310T070000
END:DAYLIGHT
BEGIN:STANDARD
TZOFFSETFROM:-0400
TZOFFSETTO:-0500
TZNAME:EST
DTSTART:20191103T060000
END:STANDARD
BEGIN:DAYLIGHT
TZOFFSETFROM:-0500
TZOFFSETTO:-0400
TZNAME:EDT
DTSTART:20200308T070000
END:DAYLIGHT
BEGIN:STANDARD
TZOFFSETFROM:-0400
TZOFFSETTO:-0500
TZNAME:EST
DTSTART:20201101T060000
END:STANDARD
BEGIN:DAYLIGHT
TZOFFSETFROM:-0500
TZOFFSETTO:-0400
TZNAME:EDT
DTSTART:20210314T070000
END:DAYLIGHT
BEGIN:STANDARD
TZOFFSETFROM:-0400
TZOFFSETTO:-0500
TZNAME:EST
DTSTART:20211107T060000
END:STANDARD
BEGIN:DAYLIGHT
TZOFFSETFROM:-0500
TZOFFSETTO:-0400
TZNAME:EDT
DTSTART:20220313T070000
END:DAYLIGHT
BEGIN:STANDARD
TZOFFSETFROM:-0400
TZOFFSETTO:-0500
TZNAME:EST
DTSTART:20221106T060000
END:STANDARD
BEGIN:DAYLIGHT
TZOFFSETFROM:-0500
TZOFFSETTO:-0400
TZNAME:EDT
DTSTART:20230312T070000
END:DAYLIGHT
BEGIN:STANDARD
TZOFFSETFROM:-0400
TZOFFSETTO:-0500
TZNAME:EST
DTSTART:20231105T060000
END:STANDARD
BEGIN:DAYLIGHT
TZOFFSETFROM:-0500
TZOFFSETTO:-0400
TZNAME:EDT
DTSTART:20240310T070000
END:DAYLIGHT
BEGIN:STANDARD
TZOFFSETFROM:-0400
TZOFFSETTO:-0500
TZNAME:EST
DTSTART:20241103T060000
END:STANDARD
BEGIN:DAYLIGHT
TZOFFSETFROM:-0500
TZOFFSETTO:-0400
TZNAME:EDT
DTSTART:20250309T070000
END:DAYLIGHT
BEGIN:STANDARD
TZOFFSETFROM:-0400
TZOFFSETTO:-0500
TZNAME:EST
DTSTART:20251102T060000
END:STANDARD
BEGIN:DAYLIGHT
TZOFFSETFROM:-0500
TZOFFSETTO:-0400
TZNAME:EDT
DTSTART:20260308T070000
END:DAYLIGHT
BEGIN:STANDARD
TZOFFSETFROM:-0400
TZOFFSETTO:-0500
TZNAME:EST
DTSTART:20261101T060000
END:STANDARD
END:VTIMEZONE
BEGIN:VEVENT
DTSTART;TZID=America/Detroit:20251114T150000
DTEND;TZID=America/Detroit:20251115T170000
DTSTAMP:20260425T163359
CREATED:20251020T135946Z
LAST-MODIFIED:20251020T135949Z
UID:10000074-1763132400-1763226000@www.adsc-iafd.com
SUMMARY:Midwest Chapter Fall Golf Outing
DESCRIPTION:More information coming soon! \n\n\n\nMonday 09/14/263:00 PM Meeting in the Adler Room at The Ridge 5:30 PM Dinner/drinks at OakfireTuesday 09/15/269:00 AM  Shotgun start on Trevino Course at Geneva National3:00 ish Lunch and prizes
URL:https://www.adsc-iafd.com/event/midwest-chapter-fall-golf-outing/
LOCATION:Wisconsin
CATEGORIES:Chapter Events,Midwest
ATTACH;FMTTYPE=image/jpeg:https://www.adsc-iafd.com/wp-content/uploads/2025/01/adsc-miswest.jpg
END:VEVENT
BEGIN:VEVENT
DTSTART;TZID=America/Detroit:20250915T000000
DTEND;TZID=America/Detroit:20250916T235959
DTSTAMP:20260425T163359
CREATED:20250123T221601Z
LAST-MODIFIED:20250709T134424Z
UID:10000020-1757894400-1758067199@www.adsc-iafd.com
SUMMARY:'25 Fall Chapter Meeting & Golf Tournament
DESCRIPTION:MondayAdler Room at The Lodge Geneva National \nTuesdayGolf\, Lunch and Prizes at Geneva National
URL:https://www.adsc-iafd.com/event/25-fall-chapter-meeting-golf-tournament/
LOCATION:Lodge Geneva National\, W4240 WI-50\, Lake Geneva\, Wisconsin\, 53147\, United States
CATEGORIES:Midwest
ATTACH;FMTTYPE=image/jpeg:https://www.adsc-iafd.com/wp-content/uploads/2025/01/adsc-miswest.jpg
END:VEVENT
BEGIN:VEVENT
DTSTART;TZID=America/Detroit:20200101T080000
DTEND;TZID=America/Detroit:20200101T170000
DTSTAMP:20260425T163359
CREATED:20250123T190557Z
LAST-MODIFIED:20250123T190558Z
UID:10000009-1577865600-1577898000@www.adsc-iafd.com
SUMMARY:Chapter Midwest Event Placeholder
DESCRIPTION:
URL:https://www.adsc-iafd.com/event/chapter-midwest-event-placeholder/
LOCATION:Wisconsin
CATEGORIES:Chapter Events,Midwest
END:VEVENT
END:VCALENDAR