BEGIN:VCALENDAR
VERSION:2.0
PRODID:-//www.adsc-iafd.com - ECPv6.15.20//NONSGML v1.0//EN
CALSCALE:GREGORIAN
METHOD:PUBLISH
X-WR-CALNAME:www.adsc-iafd.com
X-ORIGINAL-URL:https://www.adsc-iafd.com
X-WR-CALDESC:Events for www.adsc-iafd.com
REFRESH-INTERVAL;VALUE=DURATION:PT1H
X-Robots-Tag:noindex
X-PUBLISHED-TTL:PT1H
BEGIN:VTIMEZONE
TZID:America/Detroit
BEGIN:DAYLIGHT
TZOFFSETFROM:-0500
TZOFFSETTO:-0400
TZNAME:EDT
DTSTART:20190310T070000
END:DAYLIGHT
BEGIN:STANDARD
TZOFFSETFROM:-0400
TZOFFSETTO:-0500
TZNAME:EST
DTSTART:20191103T060000
END:STANDARD
BEGIN:DAYLIGHT
TZOFFSETFROM:-0500
TZOFFSETTO:-0400
TZNAME:EDT
DTSTART:20200308T070000
END:DAYLIGHT
BEGIN:STANDARD
TZOFFSETFROM:-0400
TZOFFSETTO:-0500
TZNAME:EST
DTSTART:20201101T060000
END:STANDARD
BEGIN:DAYLIGHT
TZOFFSETFROM:-0500
TZOFFSETTO:-0400
TZNAME:EDT
DTSTART:20210314T070000
END:DAYLIGHT
BEGIN:STANDARD
TZOFFSETFROM:-0400
TZOFFSETTO:-0500
TZNAME:EST
DTSTART:20211107T060000
END:STANDARD
BEGIN:DAYLIGHT
TZOFFSETFROM:-0500
TZOFFSETTO:-0400
TZNAME:EDT
DTSTART:20220313T070000
END:DAYLIGHT
BEGIN:STANDARD
TZOFFSETFROM:-0400
TZOFFSETTO:-0500
TZNAME:EST
DTSTART:20221106T060000
END:STANDARD
BEGIN:DAYLIGHT
TZOFFSETFROM:-0500
TZOFFSETTO:-0400
TZNAME:EDT
DTSTART:20230312T070000
END:DAYLIGHT
BEGIN:STANDARD
TZOFFSETFROM:-0400
TZOFFSETTO:-0500
TZNAME:EST
DTSTART:20231105T060000
END:STANDARD
BEGIN:DAYLIGHT
TZOFFSETFROM:-0500
TZOFFSETTO:-0400
TZNAME:EDT
DTSTART:20240310T070000
END:DAYLIGHT
BEGIN:STANDARD
TZOFFSETFROM:-0400
TZOFFSETTO:-0500
TZNAME:EST
DTSTART:20241103T060000
END:STANDARD
BEGIN:DAYLIGHT
TZOFFSETFROM:-0500
TZOFFSETTO:-0400
TZNAME:EDT
DTSTART:20250309T070000
END:DAYLIGHT
BEGIN:STANDARD
TZOFFSETFROM:-0400
TZOFFSETTO:-0500
TZNAME:EST
DTSTART:20251102T060000
END:STANDARD
BEGIN:DAYLIGHT
TZOFFSETFROM:-0500
TZOFFSETTO:-0400
TZNAME:EDT
DTSTART:20260308T070000
END:DAYLIGHT
BEGIN:STANDARD
TZOFFSETFROM:-0400
TZOFFSETTO:-0500
TZNAME:EST
DTSTART:20261101T060000
END:STANDARD
BEGIN:DAYLIGHT
TZOFFSETFROM:-0500
TZOFFSETTO:-0400
TZNAME:EDT
DTSTART:20270314T070000
END:DAYLIGHT
BEGIN:STANDARD
TZOFFSETFROM:-0400
TZOFFSETTO:-0500
TZNAME:EST
DTSTART:20271107T060000
END:STANDARD
END:VTIMEZONE
BEGIN:VEVENT
DTSTART;TZID=America/Detroit:20260324T120000
DTEND;TZID=America/Detroit:20260324T140000
DTSTAMP:20260425T174353
CREATED:20260306T001803Z
LAST-MODIFIED:20260306T001805Z
UID:10000106-1774353600-1774360800@www.adsc-iafd.com
SUMMARY:Chapter Spring Meeting:  Legal Issues Talk
DESCRIPTION:Please just us to hear directly from Richard on timely legal issues impacting our industry\, ask questions\, and connect with fellow members. For questions and to register for this event\, please email tnamoc@dwkozera.com. \n\n\n\nTopic: Current Legal Topics Affecting the IndustrySpeaker: Richard Kalson\, Member\, Cozen O’Connor
URL:https://www.adsc-iafd.com/event/chapter-spring-meeting-legal-issues-talk/
LOCATION:Stained Glass Pub\, 6751 Dorsey Rd\, Elkridge\, Maryland\, 21075\, United States
CATEGORIES:Mid-Atlantic
ATTACH;FMTTYPE=image/jpeg:https://www.adsc-iafd.com/wp-content/uploads/2025/01/adsc-mid-atlantic.jpg
END:VEVENT
BEGIN:VEVENT
DTSTART;TZID=America/Detroit:20251119T090000
DTEND;TZID=America/Detroit:20251119T150000
DTSTAMP:20260425T174353
CREATED:20251029T195004Z
LAST-MODIFIED:20251029T201430Z
UID:10000084-1763542800-1763564400@www.adsc-iafd.com
SUMMARY:Chapter Meeting
DESCRIPTION:To register\, please email Shana Carroll scarroll@dwkozera.com. Agenda:9:00 AM – 10 AM Breakfast10:00 AM – 12:30 PM Sporting Clays12:30 PM – 2:00 PM Lunch and Meeting \n\n\n\nRegistration is $120 and includes: \n\n\n\n\n(50) Target Sporting Clays Course\n\n\n\nMultiple targets at each station\n\n\n\n(50) rounds of ammunition included (participants can bring their own factory new 7-1/2 shot ammo if they prefer)\n\n\n\nGun rental if needed (12 gauge) – included with registration fee.\n\n\n\nRegistrants may bring their own gun (12 or 20ga) \n\n\n\nEye and Ear protection available (mandatory)\n\n\n\nAward for Best overall Score\n\n\n\nCoffee\, light breakfast\, snacks\, water\, lunch and soft drinks\n\n\n\n\nA Waiver Form must be completed at the time of registration in order to be able to participate in the Sporting Clay’s Event at Pintail Point Sporting Clay School. \n\n\n\nSponsorship OpportunitiesSponsors are welcome to provide giveaway items designed to promote your company. Marketing table space will be available. \n\n\n\n\nBreakfast Sponsor $500\n\n\n\nLunch Sponsor $750\n\n\n\nStation Sponsor $250\n\n\n\nShotgun Shell Sponsor $400
URL:https://www.adsc-iafd.com/event/chapter-meeting/
LOCATION:The Point at Pintail Sporting Clay School\, 511 Pintail Point Farm Ln\, Queenstown\, Maryland\, 21658\, United States
CATEGORIES:Chapter Events,Mid-Atlantic
ATTACH;FMTTYPE=image/jpeg:https://www.adsc-iafd.com/wp-content/uploads/2025/01/adsc-mid-atlantic.jpg
END:VEVENT
BEGIN:VEVENT
DTSTART;VALUE=DATE:20250914
DTEND;VALUE=DATE:20250916
DTSTAMP:20260425T174353
CREATED:20250617T211552Z
LAST-MODIFIED:20250827T204710Z
UID:10000044-1757808000-1757980799@www.adsc-iafd.com
SUMMARY:Bill Maher Memorial Golf Outing
DESCRIPTION:This event is to raise funds for Chapter development and the National ADSC Bill Maher Scholarship Fund.All Mid-Atlantic Chapter members and their suppliers are invited to attend the full event (dinner included). Prefer just golf? Join us Monday for a fun day on the course!  \n\n\n\nBring your customers\, register as a foursome\, or sign up individually to complete a team. All skill levels are welcome—everyone can contribute and enjoy the Captain’s Choice / Best Ball format.Please RSVP No Later Than August 15\, 2025 to scarroll@dwkozera.com
URL:https://www.adsc-iafd.com/event/bill-maher-memorial-golf-outing/
LOCATION:Rocky Gap Resort\, 16701 Lakeview Rd NE\, Flintstone\, MD\, 21530 - 1059\, United States
CATEGORIES:Chapter Events,Mid-Atlantic
ATTACH;FMTTYPE=image/jpeg:https://www.adsc-iafd.com/wp-content/uploads/2025/01/adsc-mid-atlantic.jpg
END:VEVENT
BEGIN:VEVENT
DTSTART;TZID=America/Detroit:20250414T080000
DTEND;TZID=America/Detroit:20250415T170000
DTSTAMP:20260425T174353
CREATED:20250122T164044Z
LAST-MODIFIED:20250122T164939Z
UID:10000002-1744617600-1744736400@www.adsc-iafd.com
SUMMARY:Further out event
DESCRIPTION:
URL:https://www.adsc-iafd.com/event/further-out-event/
CATEGORIES:Mid-Atlantic
END:VEVENT
BEGIN:VEVENT
DTSTART;TZID=America/Detroit:20200101T080000
DTEND;TZID=America/Detroit:20200101T170000
DTSTAMP:20260425T174353
CREATED:20250123T190524Z
LAST-MODIFIED:20250123T190525Z
UID:10000008-1577865600-1577898000@www.adsc-iafd.com
SUMMARY:Chapter Mid-Atlantic Event Placeholder
DESCRIPTION:
URL:https://www.adsc-iafd.com/event/chapter-mid-atlantic-event-placeholder/
CATEGORIES:Chapter Events,Mid-Atlantic
END:VEVENT
END:VCALENDAR