BEGIN:VCALENDAR
VERSION:2.0
PRODID:-//www.adsc-iafd.com - ECPv6.15.20//NONSGML v1.0//EN
CALSCALE:GREGORIAN
METHOD:PUBLISH
X-WR-CALNAME:www.adsc-iafd.com
X-ORIGINAL-URL:https://www.adsc-iafd.com
X-WR-CALDESC:Events for www.adsc-iafd.com
REFRESH-INTERVAL;VALUE=DURATION:PT1H
X-Robots-Tag:noindex
X-PUBLISHED-TTL:PT1H
BEGIN:VTIMEZONE
TZID:America/Detroit
BEGIN:DAYLIGHT
TZOFFSETFROM:-0500
TZOFFSETTO:-0400
TZNAME:EDT
DTSTART:20190310T070000
END:DAYLIGHT
BEGIN:STANDARD
TZOFFSETFROM:-0400
TZOFFSETTO:-0500
TZNAME:EST
DTSTART:20191103T060000
END:STANDARD
BEGIN:DAYLIGHT
TZOFFSETFROM:-0500
TZOFFSETTO:-0400
TZNAME:EDT
DTSTART:20200308T070000
END:DAYLIGHT
BEGIN:STANDARD
TZOFFSETFROM:-0400
TZOFFSETTO:-0500
TZNAME:EST
DTSTART:20201101T060000
END:STANDARD
BEGIN:DAYLIGHT
TZOFFSETFROM:-0500
TZOFFSETTO:-0400
TZNAME:EDT
DTSTART:20210314T070000
END:DAYLIGHT
BEGIN:STANDARD
TZOFFSETFROM:-0400
TZOFFSETTO:-0500
TZNAME:EST
DTSTART:20211107T060000
END:STANDARD
BEGIN:DAYLIGHT
TZOFFSETFROM:-0500
TZOFFSETTO:-0400
TZNAME:EDT
DTSTART:20220313T070000
END:DAYLIGHT
BEGIN:STANDARD
TZOFFSETFROM:-0400
TZOFFSETTO:-0500
TZNAME:EST
DTSTART:20221106T060000
END:STANDARD
BEGIN:DAYLIGHT
TZOFFSETFROM:-0500
TZOFFSETTO:-0400
TZNAME:EDT
DTSTART:20230312T070000
END:DAYLIGHT
BEGIN:STANDARD
TZOFFSETFROM:-0400
TZOFFSETTO:-0500
TZNAME:EST
DTSTART:20231105T060000
END:STANDARD
BEGIN:DAYLIGHT
TZOFFSETFROM:-0500
TZOFFSETTO:-0400
TZNAME:EDT
DTSTART:20240310T070000
END:DAYLIGHT
BEGIN:STANDARD
TZOFFSETFROM:-0400
TZOFFSETTO:-0500
TZNAME:EST
DTSTART:20241103T060000
END:STANDARD
BEGIN:DAYLIGHT
TZOFFSETFROM:-0500
TZOFFSETTO:-0400
TZNAME:EDT
DTSTART:20250309T070000
END:DAYLIGHT
BEGIN:STANDARD
TZOFFSETFROM:-0400
TZOFFSETTO:-0500
TZNAME:EST
DTSTART:20251102T060000
END:STANDARD
BEGIN:DAYLIGHT
TZOFFSETFROM:-0500
TZOFFSETTO:-0400
TZNAME:EDT
DTSTART:20260308T070000
END:DAYLIGHT
BEGIN:STANDARD
TZOFFSETFROM:-0400
TZOFFSETTO:-0500
TZNAME:EST
DTSTART:20261101T060000
END:STANDARD
END:VTIMEZONE
BEGIN:VEVENT
DTSTART;TZID=America/Detroit:20251105T000000
DTEND;TZID=America/Detroit:20251105T235959
DTSTAMP:20260425T113602
CREATED:20250617T210309Z
LAST-MODIFIED:20250923T222308Z
UID:10000042-1762300800-1762387199@www.adsc-iafd.com
SUMMARY:Engineering Summit 2025
DESCRIPTION:Register Here\n\nBook Your Room\n\n\n\nThe one-day summit event begins with breakfast at 7:00am and the first speaker following at 8:00 am.  \n\n\n\nThis event is geared towards highlighting design\, construction\, and legal aspects of deep foundation and earth retention systems for the benefit of the design and construction community. Register above! Note – a separate email address is required this year for each registrant. \n\n\n\nHotel rooms can be booked using the link above or by calling the hotel directly (704-979-2900) and asking for reservations and provide Code: ADSC25Hilton Garden Inn7831 Gateway LaneConcord N.C 28027Book by October 12\, 2025 \n\n\n\nWe hope you will join us in this event\, which serves to advance knowledge of these topics from both a technical and practical perspective and provide for an interesting and informative day.
URL:https://www.adsc-iafd.com/event/engineering-summit-2025/
LOCATION:The Speedway Club\, 5555 Concord Parkway\, Concord\, North Carolina\, 28027\, United States
CATEGORIES:Carolinas,Chapter Events
ATTACH;FMTTYPE=image/jpeg:https://www.adsc-iafd.com/wp-content/uploads/2025/01/adsc-carolinas.jpg
END:VEVENT
BEGIN:VEVENT
DTSTART;TZID=America/Detroit:20250715T080000
DTEND;TZID=America/Detroit:20250715T170000
DTSTAMP:20260425T113602
CREATED:20250617T210241Z
LAST-MODIFIED:20250709T140603Z
UID:10000041-1752566400-1752598800@www.adsc-iafd.com
SUMMARY:Summer 2025 Meeting
DESCRIPTION:
URL:https://www.adsc-iafd.com/event/summer-2025-meeting/
LOCATION:Columbia\, South Carolina\, Columbia\, SC\, United States
CATEGORIES:Carolinas,Chapter Events
ATTACH;FMTTYPE=image/jpeg:https://www.adsc-iafd.com/wp-content/uploads/2025/01/adsc-carolinas.jpg
END:VEVENT
BEGIN:VEVENT
DTSTART;VALUE=DATE:20250504
DTEND;VALUE=DATE:20250506
DTSTAMP:20260425T113602
CREATED:20250123T213534Z
LAST-MODIFIED:20250709T140247Z
UID:10000018-1746316800-1746489599@www.adsc-iafd.com
SUMMARY:’25 Spring Meeting & Golf Tournament
DESCRIPTION:
URL:https://www.adsc-iafd.com/event/25-spring-meeting-golf-tournament/
LOCATION:Grandover Resort & Conference Center\, 1000 Club Rd\, Greensboro\, NC\, 27407
CATEGORIES:Carolinas
END:VEVENT
BEGIN:VEVENT
DTSTART;VALUE=DATE:20250217
DTEND;VALUE=DATE:20250219
DTSTAMP:20260425T113602
CREATED:20250123T200012Z
LAST-MODIFIED:20250123T212618Z
UID:10000017-1739750400-1739923199@www.adsc-iafd.com
SUMMARY:’24 Engineering Summit (Rescheduled)
DESCRIPTION: 
URL:https://www.adsc-iafd.com/event/24-engineering-summit/
LOCATION:Embassy Suites by Hilton Charlotte Concord\, 5400 John Q. Hammons Dr NW\, Concord\, NC\, 28027
CATEGORIES:Carolinas
END:VEVENT
BEGIN:VEVENT
DTSTART;TZID=America/Detroit:20200101T080000
DTEND;TZID=America/Detroit:20200101T170000
DTSTAMP:20260425T113602
CREATED:20250123T190429Z
LAST-MODIFIED:20250123T190430Z
UID:10000006-1577865600-1577898000@www.adsc-iafd.com
SUMMARY:Chapter Carolinas Event Placeholder
DESCRIPTION:
URL:https://www.adsc-iafd.com/event/chapter-carolinas-event-placeholder/
LOCATION:North Carolina
CATEGORIES:Carolinas,Chapter Events
END:VEVENT
END:VCALENDAR