BEGIN:VCALENDAR
VERSION:2.0
PRODID:-//www.adsc-iafd.com - ECPv6.15.20//NONSGML v1.0//EN
CALSCALE:GREGORIAN
METHOD:PUBLISH
X-ORIGINAL-URL:https://www.adsc-iafd.com
X-WR-CALDESC:Events for www.adsc-iafd.com
REFRESH-INTERVAL;VALUE=DURATION:PT1H
X-Robots-Tag:noindex
X-PUBLISHED-TTL:PT1H
BEGIN:VTIMEZONE
TZID:America/Detroit
BEGIN:DAYLIGHT
TZOFFSETFROM:-0500
TZOFFSETTO:-0400
TZNAME:EDT
DTSTART:20250309T070000
END:DAYLIGHT
BEGIN:STANDARD
TZOFFSETFROM:-0400
TZOFFSETTO:-0500
TZNAME:EST
DTSTART:20251102T060000
END:STANDARD
BEGIN:DAYLIGHT
TZOFFSETFROM:-0500
TZOFFSETTO:-0400
TZNAME:EDT
DTSTART:20260308T070000
END:DAYLIGHT
BEGIN:STANDARD
TZOFFSETFROM:-0400
TZOFFSETTO:-0500
TZNAME:EST
DTSTART:20261101T060000
END:STANDARD
BEGIN:DAYLIGHT
TZOFFSETFROM:-0500
TZOFFSETTO:-0400
TZNAME:EDT
DTSTART:20270314T070000
END:DAYLIGHT
BEGIN:STANDARD
TZOFFSETFROM:-0400
TZOFFSETTO:-0500
TZNAME:EST
DTSTART:20271107T060000
END:STANDARD
END:VTIMEZONE
BEGIN:VEVENT
DTSTART;TZID=America/Detroit:20260609T000000
DTEND;TZID=America/Detroit:20260609T235959
DTSTAMP:20260425T150708
CREATED:20260306T002246Z
LAST-MODIFIED:20260327T204234Z
UID:10000107-1780963200-1781049599@www.adsc-iafd.com
SUMMARY:Summer Social Outing Fishing Charter
DESCRIPTION:More information coming soon! For questions please contact Shana Carroll at adsc.midatlantic.chapter@gmail.com.
URL:https://www.adsc-iafd.com/event/summer-social/
CATEGORIES:Mid-Atlantic
ATTACH;FMTTYPE=image/jpeg:https://www.adsc-iafd.com/wp-content/uploads/2025/01/adsc-mid-atlantic.jpg
END:VEVENT
BEGIN:VEVENT
DTSTART;TZID=America/Detroit:20260609T000000
DTEND;TZID=America/Detroit:20260609T235959
DTSTAMP:20260425T150708
CREATED:20260416T192035Z
LAST-MODIFIED:20260416T192538Z
UID:10000119-1780963200-1781049599@www.adsc-iafd.com
SUMMARY:Summer social Outing Fishing Charter
DESCRIPTION:
URL:https://www.adsc-iafd.com/event/summer-social-outing-fishing-charter/
CATEGORIES:Chapter Events,Mid-Atlantic
ATTACH;FMTTYPE=image/jpeg:https://www.adsc-iafd.com/wp-content/uploads/2025/01/adsc-mid-atlantic.jpg
END:VEVENT
END:VCALENDAR