BEGIN:VCALENDAR
VERSION:2.0
PRODID:-//www.adsc-iafd.com - ECPv6.15.20//NONSGML v1.0//EN
CALSCALE:GREGORIAN
METHOD:PUBLISH
X-ORIGINAL-URL:https://www.adsc-iafd.com
X-WR-CALDESC:Events for www.adsc-iafd.com
REFRESH-INTERVAL;VALUE=DURATION:PT1H
X-Robots-Tag:noindex
X-PUBLISHED-TTL:PT1H
BEGIN:VTIMEZONE
TZID:America/Detroit
BEGIN:DAYLIGHT
TZOFFSETFROM:-0500
TZOFFSETTO:-0400
TZNAME:EDT
DTSTART:20250309T070000
END:DAYLIGHT
BEGIN:STANDARD
TZOFFSETFROM:-0400
TZOFFSETTO:-0500
TZNAME:EST
DTSTART:20251102T060000
END:STANDARD
BEGIN:DAYLIGHT
TZOFFSETFROM:-0500
TZOFFSETTO:-0400
TZNAME:EDT
DTSTART:20260308T070000
END:DAYLIGHT
BEGIN:STANDARD
TZOFFSETFROM:-0400
TZOFFSETTO:-0500
TZNAME:EST
DTSTART:20261101T060000
END:STANDARD
BEGIN:DAYLIGHT
TZOFFSETFROM:-0500
TZOFFSETTO:-0400
TZNAME:EDT
DTSTART:20270314T070000
END:DAYLIGHT
BEGIN:STANDARD
TZOFFSETFROM:-0400
TZOFFSETTO:-0500
TZNAME:EST
DTSTART:20271107T060000
END:STANDARD
END:VTIMEZONE
BEGIN:VEVENT
DTSTART;TZID=America/Detroit:20260226T170000
DTEND;TZID=America/Detroit:20260226T210000
DTSTAMP:20260425T162724
CREATED:20260224T143701Z
LAST-MODIFIED:20260224T143704Z
UID:10000101-1772125200-1772139600@www.adsc-iafd.com
SUMMARY:National Drilling Association’s Mid-Atlantic Chapter
DESCRIPTION:Register Here\n\n\n\nThe National Drilling Association’s Mid-Atlantic Chapter invites members and industry partners to join us for our upcoming chapter meeting.5:00 – 6:00 PM Appetizers & Networking6:00 – 7:00 PM Dinner7:00 – 9:00 PM Chapter Meeting
URL:https://www.adsc-iafd.com/event/national-drilling-associations-mid-atlantic-chapter/
CATEGORIES:National Events
ATTACH;FMTTYPE=image/jpeg:https://www.adsc-iafd.com/wp-content/uploads/2026/02/1722826548303-NDA-MidAtlantic-Logo-01.jpg
END:VEVENT
END:VCALENDAR