BEGIN:VCALENDAR
VERSION:2.0
PRODID:-//www.adsc-iafd.com - ECPv6.15.20//NONSGML v1.0//EN
CALSCALE:GREGORIAN
METHOD:PUBLISH
X-ORIGINAL-URL:https://www.adsc-iafd.com
X-WR-CALDESC:Events for www.adsc-iafd.com
REFRESH-INTERVAL;VALUE=DURATION:PT1H
X-Robots-Tag:noindex
X-PUBLISHED-TTL:PT1H
BEGIN:VTIMEZONE
TZID:America/Detroit
BEGIN:DAYLIGHT
TZOFFSETFROM:-0500
TZOFFSETTO:-0400
TZNAME:EDT
DTSTART:20240310T070000
END:DAYLIGHT
BEGIN:STANDARD
TZOFFSETFROM:-0400
TZOFFSETTO:-0500
TZNAME:EST
DTSTART:20241103T060000
END:STANDARD
BEGIN:DAYLIGHT
TZOFFSETFROM:-0500
TZOFFSETTO:-0400
TZNAME:EDT
DTSTART:20250309T070000
END:DAYLIGHT
BEGIN:STANDARD
TZOFFSETFROM:-0400
TZOFFSETTO:-0500
TZNAME:EST
DTSTART:20251102T060000
END:STANDARD
BEGIN:DAYLIGHT
TZOFFSETFROM:-0500
TZOFFSETTO:-0400
TZNAME:EDT
DTSTART:20260308T070000
END:DAYLIGHT
BEGIN:STANDARD
TZOFFSETFROM:-0400
TZOFFSETTO:-0500
TZNAME:EST
DTSTART:20261101T060000
END:STANDARD
END:VTIMEZONE
BEGIN:VEVENT
DTSTART;TZID=America/Detroit:20251113T000000
DTEND;TZID=America/Detroit:20251113T235959
DTSTAMP:20260425T193017
CREATED:20250617T213352Z
LAST-MODIFIED:20250924T222425Z
UID:10000049-1762992000-1763078399@www.adsc-iafd.com
SUMMARY:Ronnie Fisher Memorial Clay Shoot
DESCRIPTION:Register Here\n\n\n\nAgenda:9 AM ADSC SCC Fall Chapter Meeting10:30 AM – 11:30 AM Lunch & Shooter RegistrationNoon Clay Shoot Begins3 PM Dinner & Awards
URL:https://www.adsc-iafd.com/event/ronnie-fisher-memorial-clay-shoot-2/
LOCATION:Alpine Shooting Range\, 5482 Shelby Rd\, Fort Worth\, Texas\, 76140\, United States
CATEGORIES:Chapter Events,South Central
ATTACH;FMTTYPE=image/jpeg:https://www.adsc-iafd.com/wp-content/uploads/2025/06/adsc-south-central.jpg
END:VEVENT
END:VCALENDAR