BEGIN:VCALENDAR
VERSION:2.0
PRODID:-//www.adsc-iafd.com - ECPv6.15.20//NONSGML v1.0//EN
CALSCALE:GREGORIAN
METHOD:PUBLISH
X-WR-CALNAME:www.adsc-iafd.com
X-ORIGINAL-URL:https://www.adsc-iafd.com
X-WR-CALDESC:Events for www.adsc-iafd.com
REFRESH-INTERVAL;VALUE=DURATION:PT1H
X-Robots-Tag:noindex
X-PUBLISHED-TTL:PT1H
BEGIN:VTIMEZONE
TZID:America/Detroit
BEGIN:DAYLIGHT
TZOFFSETFROM:-0500
TZOFFSETTO:-0400
TZNAME:EDT
DTSTART:20240310T070000
END:DAYLIGHT
BEGIN:STANDARD
TZOFFSETFROM:-0400
TZOFFSETTO:-0500
TZNAME:EST
DTSTART:20241103T060000
END:STANDARD
BEGIN:DAYLIGHT
TZOFFSETFROM:-0500
TZOFFSETTO:-0400
TZNAME:EDT
DTSTART:20250309T070000
END:DAYLIGHT
BEGIN:STANDARD
TZOFFSETFROM:-0400
TZOFFSETTO:-0500
TZNAME:EST
DTSTART:20251102T060000
END:STANDARD
BEGIN:DAYLIGHT
TZOFFSETFROM:-0500
TZOFFSETTO:-0400
TZNAME:EDT
DTSTART:20260308T070000
END:DAYLIGHT
BEGIN:STANDARD
TZOFFSETFROM:-0400
TZOFFSETTO:-0500
TZNAME:EST
DTSTART:20261101T060000
END:STANDARD
END:VTIMEZONE
BEGIN:VEVENT
DTSTART;TZID=America/Detroit:20251112T113000
DTEND;TZID=America/Detroit:20251112T160000
DTSTAMP:20260425T193316
CREATED:20250929T200531Z
LAST-MODIFIED:20250929T204518Z
UID:10000071-1762947000-1762963200@www.adsc-iafd.com
SUMMARY:Working Platforms Luncheon & Seminar
DESCRIPTION:Register Here\n\n\n\nWorking Platforms Implementation School is for project managers\, company owners\, estimators\, and other project administrators who are working to incorporate working platform considerations into their daily work flows. This program does not cover platform design methods or other technical issues\, but instead concentrates on critical items like contract negotiations\, communication with GCs and Owners\, and internal awareness of platform needs. Plan to attend if you are making working platforms part of your regular project administration. (Hint – that’s all of us).Agenda:11:30 AM – 12:00 PM Intro12:00 PM – 1:00 PM Lunch1:15 PM  – 3:45 PM SeminarDiscussion:“What is a working platform and how they shall be utilized when installing deep foundations.” \n\n\n\nFeatured Speaker: Rick Marshall & Peggy Hagerty Duffy
URL:https://www.adsc-iafd.com/event/working-platforms-luncheon-seminar/
LOCATION:Holiday Inn Arlington NE – Rangers Ballpark\, 1311 Wet N Wild Way\, Arlington\, Texas\, 76011\, United States
CATEGORIES:Chapter Events,South Central
ATTACH;FMTTYPE=image/jpeg:https://www.adsc-iafd.com/wp-content/uploads/2025/06/adsc-south-central.jpg
END:VEVENT
BEGIN:VEVENT
DTSTART;TZID=America/Detroit:20251112T140000
DTEND;TZID=America/Detroit:20251112T150000
DTSTAMP:20260425T193316
CREATED:20250827T210330Z
LAST-MODIFIED:20251110T160850Z
UID:10000064-1762956000-1762959600@www.adsc-iafd.com
SUMMARY:Fall Chapter Meeting
DESCRIPTION:Join us in person or via Teams on November 12th at 2 PM for the Fall Chapter Meeting at Malcom Drilling in Salt Lake City\, UT. Please email Dianne Rundell at dianne@parkrangeconstruction.com for the link.
URL:https://www.adsc-iafd.com/event/quarterly-chapter-meeting/
LOCATION:Malcolm Drilling Company\, 791 Gladiola Street\, Salt Lake City\, Utah\, 84104\, United States
CATEGORIES:Chapter Events,Rocky Mountain
ATTACH;FMTTYPE=image/jpeg:https://www.adsc-iafd.com/wp-content/uploads/2025/01/adsc-rocky-mountain.jpg
END:VEVENT
END:VCALENDAR